|SUCCESS| pw150971 [PATCH] log: avoid call close with negative value
dpdklab at iol.unh.edu
dpdklab at iol.unh.edu
Wed Feb 5 21:05:52 CET 2025
Test-Label: iol-compile-amd64-testing
Test-Status: SUCCESS
http://dpdk.org/patch/150971
_Testing PASS_
Submitter: Stephen Hemminger <stephen at networkplumber.org>
Date: Wednesday, February 05 2025 16:15:18
DPDK git baseline: Repo:dpdk
Branch: master
CommitID:32c18e7364e30a8e43cc7cc6709a7ce606fa285e
150971 --> testing pass
Upstream job id: Windows-Compile-DPDK-Native#26447
Test environment and result as below:
+---------------------+-------------------------+--------------------+-------------------+----------------------+
| Environment | dpdk_llvm_clang_compile | dpdk_meson_compile | dpdk_msvc_compile | dpdk_mingw64_compile |
+=====================+=========================+====================+===================+======================+
| Windows Server 2022 | PASS | SKIPPED | PASS | PASS |
+---------------------+-------------------------+--------------------+-------------------+----------------------+
| FreeBSD 13.4 | SKIPPED | PASS | SKIPPED | SKIPPED |
+---------------------+-------------------------+--------------------+-------------------+----------------------+
| FreeBSD 14.2 | SKIPPED | PASS | SKIPPED | SKIPPED |
+---------------------+-------------------------+--------------------+-------------------+----------------------+
Windows Server 2022
Kernel: 10.0.20348.2031
Compiler: clang 15.0.7, gcc 14.1.0 (MinGW), and MSVC VS 19.39.33521
FreeBSD 13.4
Kernel: 13.4-RELEASE-p1
Compiler: clang 18.1.6
FreeBSD 14.2
Kernel: 14.2-RELEASE
Compiler: clang 18.1.6
To view detailed results, visit:
https://lab.dpdk.org/results/dashboard/patchsets/32499/
UNH-IOL DPDK Community Lab
To manage your email subscriptions, visit:
https://lab.dpdk.org/results/dashboard/preferences/subscriptions/
More information about the test-report
mailing list