|SUCCESS| pw151006-151005 [PATCH] [v3,2/2] drivers/net: add MSVC com
dpdklab at iol.unh.edu
dpdklab at iol.unh.edu
Thu Feb 6 03:55:29 CET 2025
Test-Label: iol-compile-amd64-testing
Test-Status: SUCCESS
http://dpdk.org/patch/151005
_Testing PASS_
Submitter: Andre Muezerie <andremue at linux.microsoft.com>
Date: Wednesday, February 05 2025 18:53:10
DPDK git baseline: Repo:dpdk
Branch: master
CommitID:e595e7b5758fc73d99b810f5a8748f94bd467084
151006-151005 --> testing pass
Upstream job id: Windows-Compile-DPDK-Native#26458
Test environment and result as below:
+---------------------+-------------------+--------------------+-------------------------+
| Environment | dpdk_msvc_compile | dpdk_meson_compile | dpdk_llvm_clang_compile |
+=====================+===================+====================+=========================+
| Windows Server 2022 | PASS | SKIPPED | PASS |
+---------------------+-------------------+--------------------+-------------------------+
| FreeBSD 13.4 | SKIPPED | PASS | SKIPPED |
+---------------------+-------------------+--------------------+-------------------------+
| FreeBSD 14.2 | SKIPPED | PASS | SKIPPED |
+---------------------+-------------------+--------------------+-------------------------+
Windows Server 2022
Kernel: 10.0.20348.2031
Compiler: clang 15.0.7, gcc 14.1.0 (MinGW), and MSVC VS 19.39.33521
FreeBSD 13.4
Kernel: 13.4-RELEASE-p1
Compiler: clang 18.1.6
FreeBSD 14.2
Kernel: 14.2-RELEASE
Compiler: clang 18.1.6
To view detailed results, visit:
https://lab.dpdk.org/results/dashboard/patchsets/32504/
UNH-IOL DPDK Community Lab
To manage your email subscriptions, visit:
https://lab.dpdk.org/results/dashboard/preferences/subscriptions/
More information about the test-report
mailing list