|SUCCESS| pw151041 [PATCH] [1/1] net/mana: do not ring short doorbel

dpdklab at iol.unh.edu dpdklab at iol.unh.edu
Thu Feb 6 12:30:06 CET 2025


Test-Label: iol-compile-amd64-testing
Test-Status: SUCCESS
http://dpdk.org/patch/151041

_Testing PASS_

Submitter: Wei Hu <weh at microsoft.com>
Date: Thursday, February 06 2025 10:07:43 
DPDK git baseline: Repo:dpdk
  Branch: master
  CommitID:e595e7b5758fc73d99b810f5a8748f94bd467084

151041 --> testing pass

Upstream job id: Windows-Compile-DPDK-Native#26481

Test environment and result as below:

+---------------------+-------------------------+-------------------+--------------------+----------------------+
|     Environment     | dpdk_llvm_clang_compile | dpdk_msvc_compile | dpdk_meson_compile | dpdk_mingw64_compile |
+=====================+=========================+===================+====================+======================+
| Windows Server 2022 | PASS                    | PASS              | SKIPPED            | PASS                 |
+---------------------+-------------------------+-------------------+--------------------+----------------------+
| FreeBSD 13.4        | SKIPPED                 | SKIPPED           | PASS               | SKIPPED              |
+---------------------+-------------------------+-------------------+--------------------+----------------------+
| FreeBSD 14.2        | SKIPPED                 | SKIPPED           | PASS               | SKIPPED              |
+---------------------+-------------------------+-------------------+--------------------+----------------------+


Windows Server 2022
	Kernel: 10.0.20348.2031
	Compiler: clang 15.0.7, gcc 14.1.0 (MinGW), and MSVC VS 19.39.33521

FreeBSD 13.4
	Kernel: 13.4-RELEASE-p1
	Compiler: clang 18.1.6

FreeBSD 14.2
	Kernel: 14.2-RELEASE
	Compiler: clang 18.1.6

To view detailed results, visit:
https://lab.dpdk.org/results/dashboard/patchsets/32510/

UNH-IOL DPDK Community Lab

To manage your email subscriptions, visit: 
https://lab.dpdk.org/results/dashboard/preferences/subscriptions/


More information about the test-report mailing list