|SUCCESS| pw151042-151045 [PATCH] [v6,4/4] lib: change find device a

dpdklab at iol.unh.edu dpdklab at iol.unh.edu
Thu Feb 6 20:31:41 CET 2025


Test-Label: iol-compile-amd64-testing
Test-Status: SUCCESS
http://dpdk.org/patch/151045

_Testing PASS_

Submitter: Shani Peretz <shperetz at nvidia.com>
Date: Thursday, February 06 2025 10:54:27 
DPDK git baseline: Repo:dpdk
  Branch: master
  CommitID:32c18e7364e30a8e43cc7cc6709a7ce606fa285e

151042-151045 --> testing pass

Upstream job id: Windows-Compile-DPDK-Native#26484

Test environment and result as below:

+---------------------+-------------------+--------------------+-------------------------+
|     Environment     | dpdk_msvc_compile | dpdk_meson_compile | dpdk_llvm_clang_compile |
+=====================+===================+====================+=========================+
| Windows Server 2022 | PASS              | SKIPPED            | PASS                    |
+---------------------+-------------------+--------------------+-------------------------+
| FreeBSD 13.4        | SKIPPED           | PASS               | SKIPPED                 |
+---------------------+-------------------+--------------------+-------------------------+
| FreeBSD 14.2        | SKIPPED           | PASS               | SKIPPED                 |
+---------------------+-------------------+--------------------+-------------------------+


Windows Server 2022
	Kernel: 10.0.20348.2031
	Compiler: clang 15.0.7, gcc 14.1.0 (MinGW), and MSVC VS 19.39.33521

FreeBSD 13.4
	Kernel: 13.4-RELEASE-p1
	Compiler: clang 18.1.6

FreeBSD 14.2
	Kernel: 14.2-RELEASE
	Compiler: clang 18.1.6

To view detailed results, visit:
https://lab.dpdk.org/results/dashboard/patchsets/32511/

UNH-IOL DPDK Community Lab

To manage your email subscriptions, visit: 
https://lab.dpdk.org/results/dashboard/preferences/subscriptions/


More information about the test-report mailing list