|SUCCESS| pw151047-151070 [PATCH] [v1,24/24] net/e1000/base: skip MA

dpdklab at iol.unh.edu dpdklab at iol.unh.edu
Thu Feb 6 20:54:58 CET 2025


Test-Label: iol-compile-amd64-testing
Test-Status: SUCCESS
http://dpdk.org/patch/151070

_Testing PASS_

Submitter: Anatoly Burakov <anatoly.burakov at intel.com>
Date: Thursday, February 06 2025 16:08:47 
DPDK git baseline: Repo:dpdk
  Branch: master
  CommitID:abf3b7b7b361f8aa8d75ae00d449b588a0cdcda3

151047-151070 --> testing pass

Upstream job id: Windows-Compile-DPDK-Native#26486

Test environment and result as below:

+---------------------+--------------------+-------------------+-------------------------+
|     Environment     | dpdk_meson_compile | dpdk_msvc_compile | dpdk_llvm_clang_compile |
+=====================+====================+===================+=========================+
| FreeBSD 13.4        | PASS               | SKIPPED           | SKIPPED                 |
+---------------------+--------------------+-------------------+-------------------------+
| FreeBSD 14.2        | PASS               | SKIPPED           | SKIPPED                 |
+---------------------+--------------------+-------------------+-------------------------+
| Windows Server 2022 | SKIPPED            | PASS              | PASS                    |
+---------------------+--------------------+-------------------+-------------------------+


FreeBSD 13.4
	Kernel: 13.4-RELEASE-p1
	Compiler: clang 18.1.6

FreeBSD 14.2
	Kernel: 14.2-RELEASE
	Compiler: clang 18.1.6

Windows Server 2022
	Kernel: 10.0.20348.2031
	Compiler: clang 15.0.7, gcc 14.1.0 (MinGW), and MSVC VS 19.39.33521

To view detailed results, visit:
https://lab.dpdk.org/results/dashboard/patchsets/32513/

UNH-IOL DPDK Community Lab

To manage your email subscriptions, visit: 
https://lab.dpdk.org/results/dashboard/preferences/subscriptions/


More information about the test-report mailing list