|SUCCESS| pw151074 [PATCH] [v8] graph: mcore: optimize graph search
dpdklab at iol.unh.edu
dpdklab at iol.unh.edu
Fri Feb 7 04:23:29 CET 2025
Test-Label: iol-compile-amd64-testing
Test-Status: SUCCESS
http://dpdk.org/patch/151074
_Testing PASS_
Submitter: Huichao Cai <chcchc88 at 163.com>
Date: Friday, February 07 2025 01:39:39
DPDK git baseline: Repo:dpdk
Branch: master
CommitID:1bf86800f7daf8d5c71a08a0776ff3b754ee6570
151074 --> testing pass
Upstream job id: Windows-Compile-DPDK-Native#26501
Test environment and result as below:
+---------------------+-------------------+--------------------+-------------------------+----------------------+
| Environment | dpdk_msvc_compile | dpdk_meson_compile | dpdk_llvm_clang_compile | dpdk_mingw64_compile |
+=====================+===================+====================+=========================+======================+
| Windows Server 2022 | PASS | SKIPPED | PASS | PASS |
+---------------------+-------------------+--------------------+-------------------------+----------------------+
| FreeBSD 13.4 | SKIPPED | PASS | SKIPPED | SKIPPED |
+---------------------+-------------------+--------------------+-------------------------+----------------------+
| FreeBSD 14.2 | SKIPPED | PASS | SKIPPED | SKIPPED |
+---------------------+-------------------+--------------------+-------------------------+----------------------+
Windows Server 2022
Kernel: 10.0.20348.2031
Compiler: clang 15.0.7, gcc 14.1.0 (MinGW), and MSVC VS 19.39.33521
FreeBSD 13.4
Kernel: 13.4-RELEASE-p1
Compiler: clang 18.1.6
FreeBSD 14.2
Kernel: 14.2-RELEASE
Compiler: clang 18.1.6
To view detailed results, visit:
https://lab.dpdk.org/results/dashboard/patchsets/32516/
UNH-IOL DPDK Community Lab
To manage your email subscriptions, visit:
https://lab.dpdk.org/results/dashboard/preferences/subscriptions/
More information about the test-report
mailing list