|SUCCESS| pw151072-151073 [PATCH] [v8,2/2] net/af_xdp: Refactor af_x

dpdklab at iol.unh.edu dpdklab at iol.unh.edu
Fri Feb 7 04:29:01 CET 2025


Test-Label: iol-compile-amd64-testing
Test-Status: SUCCESS
http://dpdk.org/patch/151073

_Testing PASS_

Submitter: Ariel Otilibili <ariel.otilibili at 6wind.com>
Date: Thursday, February 06 2025 20:46:45 
DPDK git baseline: Repo:dpdk
  Branch: master
  CommitID:e5ece9ae686535f29ae72c03fec26dc16ff7a925

151072-151073 --> testing pass

Upstream job id: Generic-VM-DPDK-Compile-Meson#33114

Test environment and result as below:

+---------------------+-------------------+--------------------+
|     Environment     | dpdk_msvc_compile | dpdk_meson_compile |
+=====================+===================+====================+
| Windows Server 2022 | PASS              | SKIPPED            |
+---------------------+-------------------+--------------------+
| FreeBSD 13.4        | SKIPPED           | PASS               |
+---------------------+-------------------+--------------------+
| FreeBSD 14.2        | SKIPPED           | PASS               |
+---------------------+-------------------+--------------------+


Windows Server 2022
	Kernel: 10.0.20348.2031
	Compiler: clang 15.0.7, gcc 14.1.0 (MinGW), and MSVC VS 19.39.33521

FreeBSD 13.4
	Kernel: 13.4-RELEASE-p1
	Compiler: clang 18.1.6

FreeBSD 14.2
	Kernel: 14.2-RELEASE
	Compiler: clang 18.1.6

To view detailed results, visit:
https://lab.dpdk.org/results/dashboard/patchsets/32515/

UNH-IOL DPDK Community Lab

To manage your email subscriptions, visit: 
https://lab.dpdk.org/results/dashboard/preferences/subscriptions/


More information about the test-report mailing list