|SUCCESS| pw151075 [PATCH] [v2] app/procinfo: add xstats parameter t

dpdklab at iol.unh.edu dpdklab at iol.unh.edu
Fri Feb 7 06:35:19 CET 2025


Test-Label: iol-compile-amd64-testing
Test-Status: SUCCESS
http://dpdk.org/patch/151075

_Testing PASS_

Submitter: Dengdui Huang <huangdengdui at huawei.com>
Date: Friday, February 07 2025 03:13:33 
DPDK git baseline: Repo:dpdk
  Branch: master
  CommitID:1bf86800f7daf8d5c71a08a0776ff3b754ee6570

151075 --> testing pass

Upstream job id: Generic-VM-DPDK-Compile-Meson#33118

Test environment and result as below:

+---------------------+--------------------+-------------------------+-------------------+
|     Environment     | dpdk_meson_compile | dpdk_llvm_clang_compile | dpdk_msvc_compile |
+=====================+====================+=========================+===================+
| FreeBSD 13.4        | PASS               | SKIPPED                 | SKIPPED           |
+---------------------+--------------------+-------------------------+-------------------+
| FreeBSD 14.2        | PASS               | SKIPPED                 | SKIPPED           |
+---------------------+--------------------+-------------------------+-------------------+
| Windows Server 2022 | SKIPPED            | PASS                    | PASS              |
+---------------------+--------------------+-------------------------+-------------------+


FreeBSD 13.4
	Kernel: 13.4-RELEASE-p1
	Compiler: clang 18.1.6

FreeBSD 14.2
	Kernel: 14.2-RELEASE
	Compiler: clang 18.1.6

Windows Server 2022
	Kernel: 10.0.20348.2031
	Compiler: clang 15.0.7, gcc 14.1.0 (MinGW), and MSVC VS 19.39.33521

To view detailed results, visit:
https://lab.dpdk.org/results/dashboard/patchsets/32517/

UNH-IOL DPDK Community Lab

To manage your email subscriptions, visit: 
https://lab.dpdk.org/results/dashboard/preferences/subscriptions/


More information about the test-report mailing list