|SUCCESS| [GIT MASTER] e145d919d60b440c649abe6fd0d55c42357330f1
    dpdklab at iol.unh.edu 
    dpdklab at iol.unh.edu
       
    Fri Feb  7 14:43:35 CET 2025
    
    
  
_Testing PASS_
Branch: dpdk-next-net-intel
e145d919d60b440c649abe6fd0d55c42357330f1 --> testing pass
Upstream job id: Windows-Compile-DPDK-VS#4855
Test environment and result as below:
+---------------------+--------------------+-------------------+
|     Environment     | dpdk_meson_compile | dpdk_msvc_compile |
+=====================+====================+===================+
| FreeBSD 13.4        | PASS               | SKIPPED           |
+---------------------+--------------------+-------------------+
| FreeBSD 14.2        | PASS               | SKIPPED           |
+---------------------+--------------------+-------------------+
| Windows Server 2022 | SKIPPED            | PASS              |
+---------------------+--------------------+-------------------+
FreeBSD 13.4
	Kernel: 13.4-RELEASE-p1
	Compiler: clang 18.1.6
FreeBSD 14.2
	Kernel: 14.2-RELEASE
	Compiler: clang 18.1.6
Windows Server 2022
	Kernel: 10.0.20348.2031
	Compiler: clang 15.0.7, gcc 14.1.0 (MinGW), and MSVC VS 19.39.33521
To view detailed results, visit:
https://lab.dpdk.org/results/dashboard/tarballs/32489/
UNH-IOL DPDK Community Lab
To manage your email subscriptions, visit: 
https://lab.dpdk.org/results/dashboard/preferences/subscriptions/
    
    
More information about the test-report
mailing list