|SUCCESS| pw151090-151091 [PATCH] [v9,2/2] net/af_xdp: Refactor af_x
dpdklab at iol.unh.edu
dpdklab at iol.unh.edu
Fri Feb 7 19:10:50 CET 2025
Test-Label: iol-compile-amd64-testing
Test-Status: SUCCESS
http://dpdk.org/patch/151091
_Testing PASS_
Submitter: Ariel Otilibili <ariel.otilibili at 6wind.com>
Date: Friday, February 07 2025 10:45:52
DPDK git baseline: Repo:dpdk
Branch: master
CommitID:e5ece9ae686535f29ae72c03fec26dc16ff7a925
151090-151091 --> testing pass
Upstream job id: Windows-Compile-DPDK-Native#26523
Test environment and result as below:
+---------------------+-------------------------+--------------------+-------------------+----------------------+
| Environment | dpdk_llvm_clang_compile | dpdk_meson_compile | dpdk_msvc_compile | dpdk_mingw64_compile |
+=====================+=========================+====================+===================+======================+
| Windows Server 2022 | PASS | SKIPPED | PASS | PASS |
+---------------------+-------------------------+--------------------+-------------------+----------------------+
| FreeBSD 13.4 | SKIPPED | PASS | SKIPPED | SKIPPED |
+---------------------+-------------------------+--------------------+-------------------+----------------------+
| FreeBSD 14.2 | SKIPPED | PASS | SKIPPED | SKIPPED |
+---------------------+-------------------------+--------------------+-------------------+----------------------+
Windows Server 2022
Kernel: 10.0.20348.2031
Compiler: clang 15.0.7, gcc 14.1.0 (MinGW), and MSVC VS 19.39.33521
FreeBSD 13.4
Kernel: 13.4-RELEASE-p1
Compiler: clang 18.1.6
FreeBSD 14.2
Kernel: 14.2-RELEASE
Compiler: clang 18.1.6
To view detailed results, visit:
https://lab.dpdk.org/results/dashboard/patchsets/32522/
UNH-IOL DPDK Community Lab
To manage your email subscriptions, visit:
https://lab.dpdk.org/results/dashboard/preferences/subscriptions/
More information about the test-report
mailing list