|WARNING| pw149223-149228 [PATCH] [v2,6/6] buildtools: externally ch
    dpdklab at iol.unh.edu 
    dpdklab at iol.unh.edu
       
    Fri Feb  7 19:28:48 CET 2025
    
    
  
Test-Label: iol-compile-amd64-testing
Test-Status: WARNING
http://dpdk.org/patch/149228
_Testing issues_
Submitter: David Marchand <david.marchand at redhat.com>
Date: Friday, December 13 2024 10:50:10 
DPDK git baseline: Repo:dpdk
  Branch: master
  CommitID:7df61db6c387703a36306c1aea92225921e2eeb2
149223-149228 --> testing issues
Test environment and result as below:
+---------------------+--------------------+------------------+-------------------+-------------------------+----------------------+-------------------+
|     Environment     | dpdk_meson_compile | dpdk_compile_ovs | dpdk_compile_spdk | dpdk_llvm_clang_compile | dpdk_mingw64_compile | dpdk_msvc_compile |
+=====================+====================+==================+===================+=========================+======================+===================+
| CentOS Stream 9     | PASS               | PASS             | PASS              | SKIPPED                 | SKIPPED              | SKIPPED           |
+---------------------+--------------------+------------------+-------------------+-------------------------+----------------------+-------------------+
| Debian 12           | PASS               | PASS             | PASS              | SKIPPED                 | SKIPPED              | SKIPPED           |
+---------------------+--------------------+------------------+-------------------+-------------------------+----------------------+-------------------+
| Fedora 39 (Clang)   | PASS               | PASS             | PASS              | SKIPPED                 | SKIPPED              | SKIPPED           |
+---------------------+--------------------+------------------+-------------------+-------------------------+----------------------+-------------------+
| Fedora 39           | PASS               | PASS             | PASS              | SKIPPED                 | SKIPPED              | SKIPPED           |
+---------------------+--------------------+------------------+-------------------+-------------------------+----------------------+-------------------+
| Fedora 40           | PASS               | PASS             | PASS              | SKIPPED                 | SKIPPED              | SKIPPED           |
+---------------------+--------------------+------------------+-------------------+-------------------------+----------------------+-------------------+
| Fedora 40 (Clang)   | PASS               | PASS             | PASS              | SKIPPED                 | SKIPPED              | SKIPPED           |
+---------------------+--------------------+------------------+-------------------+-------------------------+----------------------+-------------------+
| openSUSE Leap 15    | PASS               | WARN             | SKIPPED           | SKIPPED                 | SKIPPED              | SKIPPED           |
+---------------------+--------------------+------------------+-------------------+-------------------------+----------------------+-------------------+
| RHEL8               | PASS               | PASS             | SKIPPED           | SKIPPED                 | SKIPPED              | SKIPPED           |
+---------------------+--------------------+------------------+-------------------+-------------------------+----------------------+-------------------+
| Ubuntu 20.04        | PASS               | SKIPPED          | SKIPPED           | SKIPPED                 | SKIPPED              | SKIPPED           |
+---------------------+--------------------+------------------+-------------------+-------------------------+----------------------+-------------------+
| Ubuntu 22.04        | PASS               | PASS             | PASS              | SKIPPED                 | SKIPPED              | SKIPPED           |
+---------------------+--------------------+------------------+-------------------+-------------------------+----------------------+-------------------+
| Ubuntu 24.04        | PASS               | PASS             | PASS              | SKIPPED                 | SKIPPED              | SKIPPED           |
+---------------------+--------------------+------------------+-------------------+-------------------------+----------------------+-------------------+
| FreeBSD 13.4        | PASS               | SKIPPED          | SKIPPED           | SKIPPED                 | SKIPPED              | SKIPPED           |
+---------------------+--------------------+------------------+-------------------+-------------------------+----------------------+-------------------+
| FreeBSD 14.2        | PASS               | SKIPPED          | SKIPPED           | SKIPPED                 | SKIPPED              | SKIPPED           |
+---------------------+--------------------+------------------+-------------------+-------------------------+----------------------+-------------------+
| Alpine              | PASS               | PASS             | SKIPPED           | SKIPPED                 | SKIPPED              | SKIPPED           |
+---------------------+--------------------+------------------+-------------------+-------------------------+----------------------+-------------------+
| RHEL9               | PASS               | PASS             | SKIPPED           | SKIPPED                 | SKIPPED              | SKIPPED           |
+---------------------+--------------------+------------------+-------------------+-------------------------+----------------------+-------------------+
| Windows Server 2022 | SKIPPED            | SKIPPED          | SKIPPED           | PASS                    | PASS                 | PASS              |
+---------------------+--------------------+------------------+-------------------+-------------------------+----------------------+-------------------+
==== 20 line log output for openSUSE Leap 15 (dpdk_compile_ovs): ====
 --- Failed to get log output --- 
==== End log output ====
CentOS Stream 9
	Kernel: Depends on container host
	Compiler: gcc 11.5.0 20240719 (Red Hat 11.5.0-2)
Debian 12
	Kernel: Depends on container host
	Compiler: gcc (Debian 12.2.0-14) 12.2.0
Fedora 39 (Clang)
	Kernel: Depends on container host
	Compiler: clang 17.0.6 (Fedora 17.0.6-2.fc39)
Fedora 39
	Kernel: Depends on container host
	Compiler: gcc 13.3.1 20240522 (Red Hat 13.3.1-1)
Fedora 40
	Kernel: Depends on container host
	Compiler: gcc 14.2.1 20240912 (Red Hat 14.2.1-3)
Fedora 40 (Clang)
	Kernel: Depends on container host
	Compiler: clang 18.1.8 (Fedora 18.1.8-1.fc40)
openSUSE Leap 15
	Kernel: Depends on container host
	Compiler: gcc (SUSE Linux) 7.5.0
RHEL8
	Kernel: Depends on container host
	Compiler: gcc 8.5.0 20210514 (Red Hat 8.5.0-22)
Ubuntu 20.04
	Kernel: Depends on container host
	Compiler: gcc (Ubuntu 9.4.0-1ubuntu1~20.04.2) 9.4.0
Ubuntu 22.04
	Kernel: Depends on container host
	Compiler: gcc (Ubuntu 11.4.0-1ubuntu1~22.04) 11.4.0
Ubuntu 24.04
	Kernel: Depends on container host
	Compiler: gcc (Ubuntu 13.3.0-6ubuntu2~24.04) 13.3.0
FreeBSD 13.4
	Kernel: 13.4-RELEASE-p1
	Compiler: clang 18.1.6
FreeBSD 14.2
	Kernel: 14.2-RELEASE
	Compiler: clang 18.1.6
Alpine
	Kernel: Depends on container host
	Compiler: gcc (Alpine 14.2.0) 14.2.0
RHEL9
	Kernel: Depends on container host
	Compiler: gcc 11.5.0 20240719 (Red Hat 11.5.0-2)
Windows Server 2022
	Kernel: 10.0.20348.2031
	Compiler: clang 15.0.7, gcc 14.1.0 (MinGW), and MSVC VS 19.39.33521
To view detailed results, visit:
https://lab.dpdk.org/results/dashboard/patchsets/32135/
UNH-IOL DPDK Community Lab
To manage your email subscriptions, visit: 
https://lab.dpdk.org/results/dashboard/preferences/subscriptions/
    
    
More information about the test-report
mailing list