|SUCCESS| pw151129-151131 [PATCH] [3/3] test/event: unit test to bur
dpdklab at iol.unh.edu
dpdklab at iol.unh.edu
Fri Feb 7 20:13:08 CET 2025
Test-Label: iol-compile-amd64-testing
Test-Status: SUCCESS
http://dpdk.org/patch/151131
_Testing PASS_
Submitter: Shijith Thotton <sthotton at marvell.com>
Date: Friday, February 07 2025 14:09:10
DPDK git baseline: Repo:dpdk
Branch: master
CommitID:32c18e7364e30a8e43cc7cc6709a7ce606fa285e
151129-151131 --> testing pass
Upstream job id: Windows-Compile-DPDK-Native#26524
Test environment and result as below:
+---------------------+-------------------+--------------------+-------------------------+
| Environment | dpdk_msvc_compile | dpdk_meson_compile | dpdk_llvm_clang_compile |
+=====================+===================+====================+=========================+
| Windows Server 2022 | PASS | SKIPPED | PASS |
+---------------------+-------------------+--------------------+-------------------------+
| FreeBSD 13.4 | SKIPPED | PASS | SKIPPED |
+---------------------+-------------------+--------------------+-------------------------+
Windows Server 2022
Kernel: 10.0.20348.2031
Compiler: clang 15.0.7, gcc 14.1.0 (MinGW), and MSVC VS 19.39.33521
FreeBSD 13.4
Kernel: 13.4-RELEASE-p1
Compiler: clang 18.1.6
To view detailed results, visit:
https://lab.dpdk.org/results/dashboard/patchsets/32525/
UNH-IOL DPDK Community Lab
To manage your email subscriptions, visit:
https://lab.dpdk.org/results/dashboard/preferences/subscriptions/
More information about the test-report
mailing list