|SUCCESS| pw151134 [PATCH] [v6] eal: define __SIZEOF_LONG__ when usi

dpdklab at iol.unh.edu dpdklab at iol.unh.edu
Sat Feb 8 00:06:01 CET 2025


Test-Label: iol-compile-amd64-testing
Test-Status: SUCCESS
http://dpdk.org/patch/151134

_Testing PASS_

Submitter: Andre Muezerie <andremue at linux.microsoft.com>
Date: Friday, February 07 2025 15:04:28 
DPDK git baseline: Repo:dpdk
  Branch: master
  CommitID:388b1abe291544106e406cb0a200b5b0c96fe599

151134 --> testing pass

Upstream job id: Generic-VM-DPDK-Compile-Meson#33144

Test environment and result as below:

+---------------------+--------------------+-------------------+
|     Environment     | dpdk_meson_compile | dpdk_msvc_compile |
+=====================+====================+===================+
| FreeBSD 13.4        | PASS               | SKIPPED           |
+---------------------+--------------------+-------------------+
| FreeBSD 14.2        | PASS               | SKIPPED           |
+---------------------+--------------------+-------------------+
| Windows Server 2022 | SKIPPED            | PASS              |
+---------------------+--------------------+-------------------+


FreeBSD 13.4
	Kernel: 13.4-RELEASE-p1
	Compiler: clang 18.1.6

FreeBSD 14.2
	Kernel: 14.2-RELEASE
	Compiler: clang 18.1.6

Windows Server 2022
	Kernel: 10.0.20348.2031
	Compiler: clang 15.0.7, gcc 14.1.0 (MinGW), and MSVC VS 19.39.33521

To view detailed results, visit:
https://lab.dpdk.org/results/dashboard/patchsets/32528/

UNH-IOL DPDK Community Lab

To manage your email subscriptions, visit: 
https://lab.dpdk.org/results/dashboard/preferences/subscriptions/


More information about the test-report mailing list