|SUCCESS| pw151136 [PATCH] [v5] net: add thread-safe crc api
    dpdklab at iol.unh.edu 
    dpdklab at iol.unh.edu
       
    Sat Feb  8 05:13:14 CET 2025
    
    
  
Test-Label: iol-compile-amd64-testing
Test-Status: SUCCESS
http://dpdk.org/patch/151136
_Testing PASS_
Submitter: Arkadiusz Kusztal <arkadiuszx.kusztal at intel.com>
Date: Friday, February 07 2025 18:24:43 
DPDK git baseline: Repo:dpdk
  Branch: master
  CommitID:7125636162d67b1c40ba6802a3ff4466d125d243
151136 --> testing pass
Upstream job id: Windows-Compile-DPDK-Native#26540
Test environment and result as below:
+---------------------+--------------------+-------------------+-------------------------+
|     Environment     | dpdk_meson_compile | dpdk_msvc_compile | dpdk_llvm_clang_compile |
+=====================+====================+===================+=========================+
| FreeBSD 13.4        | PASS               | SKIPPED           | SKIPPED                 |
+---------------------+--------------------+-------------------+-------------------------+
| FreeBSD 14.2        | PASS               | SKIPPED           | SKIPPED                 |
+---------------------+--------------------+-------------------+-------------------------+
| Windows Server 2022 | SKIPPED            | PASS              | PASS                    |
+---------------------+--------------------+-------------------+-------------------------+
FreeBSD 13.4
	Kernel: 13.4-RELEASE-p1
	Compiler: clang 18.1.6
FreeBSD 14.2
	Kernel: 14.2-RELEASE
	Compiler: clang 18.1.6
Windows Server 2022
	Kernel: 10.0.20348.2031
	Compiler: clang 15.0.7, gcc 14.1.0 (MinGW), and MSVC VS 19.39.33521
To view detailed results, visit:
https://lab.dpdk.org/results/dashboard/patchsets/32530/
UNH-IOL DPDK Community Lab
To manage your email subscriptions, visit: 
https://lab.dpdk.org/results/dashboard/preferences/subscriptions/
    
    
More information about the test-report
mailing list