|SUCCESS| pw151136 [PATCH] [v5] net: add thread-safe crc api
dpdklab at iol.unh.edu
dpdklab at iol.unh.edu
Sat Feb 8 06:33:58 CET 2025
Test-Label: iol-abi-testing
Test-Status: SUCCESS
http://dpdk.org/patch/151136
_Testing PASS_
Submitter: Arkadiusz Kusztal <arkadiuszx.kusztal at intel.com>
Date: Friday, February 07 2025 18:24:43
DPDK git baseline: Repo:dpdk
Branch: master
CommitID:7125636162d67b1c40ba6802a3ff4466d125d243
151136 --> testing pass
Upstream job id: Generic-DPDK-Compile-ABI#115379
Test environment and result as below:
+-------------------+----------+
| Environment | abi_test |
+===================+==========+
| openSUSE Leap 15 | PASS |
+-------------------+----------+
| Fedora 41 | PASS |
+-------------------+----------+
| Fedora 41 (Clang) | PASS |
+-------------------+----------+
| Ubuntu 24.04 | PASS |
+-------------------+----------+
openSUSE Leap 15
Kernel: Depends on container host
Compiler: gcc (SUSE Linux) 7.5.0
Fedora 41
Kernel: Depends on container host
Compiler: gcc 14.2.1 20240912 (Red Hat 14.2.1-3)
Fedora 41 (Clang)
Kernel: Depends on container host
Compiler: clang 19.1.5 (Fedora 19.1.5-1.fc41)
Ubuntu 24.04
Kernel: Depends on container host
Compiler: gcc (Ubuntu 13.3.0-6ubuntu2~24.04) 13.3.0
To view detailed results, visit:
https://lab.dpdk.org/results/dashboard/patchsets/32530/
UNH-IOL DPDK Community Lab
To manage your email subscriptions, visit:
https://lab.dpdk.org/results/dashboard/preferences/subscriptions/
More information about the test-report
mailing list