|SUCCESS| pw151183 [PATCH] drivers: allow build with VLAs

dpdklab at iol.unh.edu dpdklab at iol.unh.edu
Sat Feb 8 14:10:39 CET 2025


Test-Label: iol-compile-amd64-testing
Test-Status: SUCCESS
http://dpdk.org/patch/151183

_Testing PASS_

Submitter: Thomas Monjalon <thomas at monjalon.net>
Date: Saturday, February 08 2025 09:28:38 
DPDK git baseline: Repo:dpdk
  Branch: master
  CommitID:3553897d84d8b54a1b1136cbf04dd7f1a40fd85b

151183 --> testing pass

Upstream job id: Generic-VM-DPDK-Compile-Meson#33170

Test environment and result as below:

+---------------------+-------------------------+-------------------+--------------------+----------------------+
|     Environment     | dpdk_llvm_clang_compile | dpdk_msvc_compile | dpdk_meson_compile | dpdk_mingw64_compile |
+=====================+=========================+===================+====================+======================+
| Windows Server 2022 | PASS                    | PASS              | SKIPPED            | PASS                 |
+---------------------+-------------------------+-------------------+--------------------+----------------------+
| FreeBSD 13.4        | SKIPPED                 | SKIPPED           | PASS               | SKIPPED              |
+---------------------+-------------------------+-------------------+--------------------+----------------------+
| FreeBSD 14.2        | SKIPPED                 | SKIPPED           | PASS               | SKIPPED              |
+---------------------+-------------------------+-------------------+--------------------+----------------------+


Windows Server 2022
	Kernel: 10.0.20348.2031
	Compiler: clang 15.0.7, gcc 14.1.0 (MinGW), and MSVC VS 19.39.33521

FreeBSD 13.4
	Kernel: 13.4-RELEASE-p1
	Compiler: clang 18.1.6

FreeBSD 14.2
	Kernel: 14.2-RELEASE
	Compiler: clang 18.1.6

To view detailed results, visit:
https://lab.dpdk.org/results/dashboard/patchsets/32536/

UNH-IOL DPDK Community Lab

To manage your email subscriptions, visit: 
https://lab.dpdk.org/results/dashboard/preferences/subscriptions/


More information about the test-report mailing list