|SUCCESS| pw151291-151295 [PATCH] [v3,5/5] eal/x86: defer power intr

dpdklab at iol.unh.edu dpdklab at iol.unh.edu
Tue Feb 11 02:55:23 CET 2025


Test-Label: iol-compile-amd64-testing
Test-Status: SUCCESS
http://dpdk.org/patch/151295

_Testing PASS_

Submitter: David Marchand <david.marchand at redhat.com>
Date: Monday, February 10 2025 21:31:58 
DPDK git baseline: Repo:dpdk
  Branch: master
  CommitID:99cc389af4e16011c821cabb867e6646357f429d

151291-151295 --> testing pass

Upstream job id: Generic-VM-DPDK-Compile-Meson#33216

Test environment and result as below:

+---------------------+--------------------+-------------------+
|     Environment     | dpdk_meson_compile | dpdk_msvc_compile |
+=====================+====================+===================+
| FreeBSD 13.4        | PASS               | SKIPPED           |
+---------------------+--------------------+-------------------+
| FreeBSD 14.2        | PASS               | SKIPPED           |
+---------------------+--------------------+-------------------+
| Windows Server 2022 | SKIPPED            | PASS              |
+---------------------+--------------------+-------------------+


FreeBSD 13.4
	Kernel: 13.4-RELEASE-p1
	Compiler: clang 18.1.6

FreeBSD 14.2
	Kernel: 14.2-RELEASE
	Compiler: clang 18.1.6

Windows Server 2022
	Kernel: 10.0.20348.2031
	Compiler: clang 15.0.7, gcc 14.1.0 (MinGW), and MSVC VS 19.39.33521

To view detailed results, visit:
https://lab.dpdk.org/results/dashboard/patchsets/32555/

UNH-IOL DPDK Community Lab

To manage your email subscriptions, visit: 
https://lab.dpdk.org/results/dashboard/preferences/subscriptions/


More information about the test-report mailing list