|SUCCESS| pw151325 [PATCH] [v7] net: add thread-safe crc api

dpdklab at iol.unh.edu dpdklab at iol.unh.edu
Tue Feb 11 11:44:52 CET 2025


Test-Label: iol-compile-amd64-testing
Test-Status: SUCCESS
http://dpdk.org/patch/151325

_Testing PASS_

Submitter: Arkadiusz Kusztal <arkadiuszx.kusztal at intel.com>
Date: Tuesday, February 11 2025 09:02:02 
DPDK git baseline: Repo:dpdk
  Branch: master
  CommitID:7125636162d67b1c40ba6802a3ff4466d125d243

151325 --> testing pass

Upstream job id: Generic-VM-DPDK-Compile-Meson#33230

Test environment and result as below:

+---------------------+-------------------------+-------------------+--------------------+
|     Environment     | dpdk_llvm_clang_compile | dpdk_msvc_compile | dpdk_meson_compile |
+=====================+=========================+===================+====================+
| Windows Server 2022 | PASS                    | PASS              | SKIPPED            |
+---------------------+-------------------------+-------------------+--------------------+
| FreeBSD 13.4        | SKIPPED                 | SKIPPED           | PASS               |
+---------------------+-------------------------+-------------------+--------------------+
| FreeBSD 14.2        | SKIPPED                 | SKIPPED           | PASS               |
+---------------------+-------------------------+-------------------+--------------------+


Windows Server 2022
	Kernel: 10.0.20348.2031
	Compiler: clang 15.0.7, gcc 14.1.0 (MinGW), and MSVC VS 19.39.33521

FreeBSD 13.4
	Kernel: 13.4-RELEASE-p1
	Compiler: clang 18.1.6

FreeBSD 14.2
	Kernel: 14.2-RELEASE
	Compiler: clang 18.1.6

To view detailed results, visit:
https://lab.dpdk.org/results/dashboard/patchsets/32558/

UNH-IOL DPDK Community Lab

To manage your email subscriptions, visit: 
https://lab.dpdk.org/results/dashboard/preferences/subscriptions/


More information about the test-report mailing list