|SUCCESS| pw151445-151446 [PATCH] [v2,2/2] net/intel: add Tx time qu
dpdklab at iol.unh.edu
dpdklab at iol.unh.edu
Thu Feb 13 16:04:31 CET 2025
Test-Label: iol-sample-apps-testing
Test-Status: SUCCESS
http://dpdk.org/patch/151446
_Testing PASS_
Submitter: Soumyadeep Hore <soumyadeep.hore at intel.com>
Date: Wednesday, February 12 2025 21:47:11
DPDK git baseline: Repo:dpdk
Branch: master
CommitID:c2b6f3e7212dc32603304a6bb41b0e8f081761a5
151445-151446 --> testing pass
Upstream job id: ACVP-FIPS-testing#8897
Test environment and result as below:
+--------------------+----------------------+----------------------+
| Environment | compressdev_zlib_pmd | dpdk_fips_validation |
+====================+======================+======================+
| Ubuntu 22.04 (ARM) | PASS | SKIPPED |
+--------------------+----------------------+----------------------+
| Ubuntu 22.04 | PASS | SKIPPED |
+--------------------+----------------------+----------------------+
| Ubuntu 20.04 | SKIPPED | PASS |
+--------------------+----------------------+----------------------+
Ubuntu 22.04 (ARM)
Kernel: 5.15.0-97-generic
Compiler: gcc gcc (Ubuntu 11.4.0-1ubuntu1~22.04) 11.4.0
Ubuntu 22.04
Kernel: 5.15.0-100-generic
Compiler: gcc gcc (Ubuntu 11.4.0-1ubuntu1~22.04) 11.4.0
Ubuntu 20.04
Kernel: Depends on container host
Compiler: gcc (Ubuntu 9.4.0-1ubuntu1~20.04.2) 9.4.0
To view detailed results, visit:
https://lab.dpdk.org/results/dashboard/patchsets/32570/
UNH-IOL DPDK Community Lab
To manage your email subscriptions, visit:
https://lab.dpdk.org/results/dashboard/preferences/subscriptions/
More information about the test-report
mailing list