|SUCCESS| pw151469-151471 [PATCH] [v2,3/3] net/netvsc: log error on

dpdklab at iol.unh.edu dpdklab at iol.unh.edu
Thu Feb 13 22:44:22 CET 2025


Test-Label: iol-abi-testing
Test-Status: SUCCESS
http://dpdk.org/patch/151471

_Testing PASS_

Submitter: Long Li <longli at linuxonhyperv.com>
Date: Thursday, February 13 2025 18:58:25 
DPDK git baseline: Repo:dpdk
  Branch: master
  CommitID:88e17c88943145bb956b5bf6059a8043dbd33a99

151469-151471 --> testing pass

Upstream job id: Generic-DPDK-Compile-ABI#116108

Test environment and result as below:

+-----------------+----------+
|   Environment   | abi_test |
+=================+==========+
| CentOS Stream 9 | PASS     |
+-----------------+----------+
| Fedora 41       | PASS     |
+-----------------+----------+
| Fedora 40       | PASS     |
+-----------------+----------+
| Ubuntu 24.04    | PASS     |
+-----------------+----------+
| Ubuntu 22.04    | PASS     |
+-----------------+----------+


CentOS Stream 9
	Kernel: Depends on container host
	Compiler: gcc 11.5.0 20240719 (Red Hat 11.5.0-2)

Fedora 41
	Kernel: Depends on container host
	Compiler: gcc 14.2.1 20240912 (Red Hat 14.2.1-3)

Fedora 40
	Kernel: Depends on container host
	Compiler: gcc 14.2.1 20240912 (Red Hat 14.2.1-3)

Ubuntu 24.04
	Kernel: Depends on container host
	Compiler: gcc (Ubuntu 13.3.0-6ubuntu2~24.04) 13.3.0

Ubuntu 22.04
	Kernel: Depends on container host
	Compiler: gcc (Ubuntu 11.4.0-1ubuntu1~22.04) 11.4.0

To view detailed results, visit:
https://lab.dpdk.org/results/dashboard/patchsets/32577/

UNH-IOL DPDK Community Lab

To manage your email subscriptions, visit: 
https://lab.dpdk.org/results/dashboard/preferences/subscriptions/


More information about the test-report mailing list