|WARNING| pw151687-151689 [PATCH] [v2,3/3] fbarray: flatten the loop

dpdklab at iol.unh.edu dpdklab at iol.unh.edu
Fri Feb 21 00:07:50 CET 2025


Test-Label: iol-sample-apps-testing
Test-Status: WARNING
http://dpdk.org/patch/151689

_Testing issues_

Submitter: Anatoly Burakov <anatoly.burakov at intel.com>
Date: Thursday, February 20 2025 13:16:40 
DPDK git baseline: Repo:dpdk
  Branch: master
  CommitID:fab31a03ba98e7457284df95dd9eef2223a4ccaa

151687-151689 --> testing issues

Upstream job id: ACVP-FIPS-testing#8974

Test environment and result as below:

+--------------------+----------------------+----------------------+
|    Environment     | compressdev_zlib_pmd | dpdk_fips_validation |
+====================+======================+======================+
| Ubuntu 22.04 (ARM) | PASS                 | SKIPPED              |
+--------------------+----------------------+----------------------+
| Ubuntu 22.04       | PASS                 | SKIPPED              |
+--------------------+----------------------+----------------------+
| Ubuntu 20.04       | SKIPPED              | WARN                 |
+--------------------+----------------------+----------------------+

==== 20 line log output for Ubuntu 20.04 (dpdk_fips_validation): ====
return _default_decoder.decode(s)
File "/usr/lib/python3.8/json/decoder.py", line 337, in decode
obj, end = self.raw_decode(s, idx=_w(s, 0).end())
File "/usr/lib/python3.8/json/decoder.py", line 355, in raw_decode
raise JSONDecodeError("Expecting value", s, err.value) from None
json.decoder.JSONDecodeError: Expecting value: line 1 column 1 (char 0)
INFO:root:Using response file...
INFO:root:Uploading response file...
INFO:root:Fetching verdict...
INFO:root:Downloading verdict for vector set 2921714
INFO:root:Vector set verdict not ready, waiting 30 seconds...
INFO:root:Done
INFO:root:Using response file...
INFO:root:Uploading response file...
INFO:root:Fetching verdict...
INFO:root:Downloading verdict for vector set 2921718
INFO:root:Vector set verdict not ready, waiting 30 seconds...
INFO:root:Vector set verdict not ready, waiting 30 seconds...
INFO:root:Vector set verdict not ready, waiting 30 seconds...
INFO:root:Done
==== End log output ====

Ubuntu 22.04 (ARM)
	Kernel: 5.15.0-97-generic
	Compiler: gcc gcc (Ubuntu 11.4.0-1ubuntu1~22.04) 11.4.0

Ubuntu 22.04
	Kernel: 5.15.0-100-generic
	Compiler: gcc gcc (Ubuntu 11.4.0-1ubuntu1~22.04) 11.4.0

Ubuntu 20.04
	Kernel: Depends on container host
	Compiler: gcc (Ubuntu 9.4.0-1ubuntu1~20.04.2) 9.4.0

To view detailed results, visit:
https://lab.dpdk.org/results/dashboard/patchsets/32622/

UNH-IOL DPDK Community Lab

To manage your email subscriptions, visit: 
https://lab.dpdk.org/results/dashboard/preferences/subscriptions/


More information about the test-report mailing list