|SUCCESS| pw151795 [PATCH] [RFC,v18] mempool: fix mempool cache size
    dpdklab at iol.unh.edu 
    dpdklab at iol.unh.edu
       
    Fri Feb 21 21:23:42 CET 2025
    
    
  
Test-Label: iol-unit-arm64-testing
Test-Status: SUCCESS
http://dpdk.org/patch/151795
_Testing PASS_
Submitter: Morten Brorup <mb at smartsharesystems.com>
Date: Friday, February 21 2025 15:13:18 
DPDK git baseline: Repo:dpdk
  Branch: master
  CommitID:fab31a03ba98e7457284df95dd9eef2223a4ccaa
151795 --> testing pass
Upstream job id: Generic-Unit-Test-DPDK#317268
Test environment and result as below:
+----------------------+--------------+----------------+
|     Environment      | lpm_autotest | dpdk_unit_test |
+======================+==============+================+
| Ubuntu 20.04 ARM SVE | PASS         | SKIPPED        |
+----------------------+--------------+----------------+
| Ubuntu 22.04 (ARM)   | SKIPPED      | PASS           |
+----------------------+--------------+----------------+
| RHEL9 (ARM)          | SKIPPED      | PASS           |
+----------------------+--------------+----------------+
Ubuntu 20.04 ARM SVE
	Kernel: Depends on container host
	Compiler: gcc (Ubuntu 10.5.0-1ubuntu1~20.04) 10.5.0
Ubuntu 22.04 (ARM)
	Kernel: Depends on container host
	Compiler: gcc (Ubuntu 11.4.0-1ubuntu1~22.04) 11.4.0
RHEL9 (ARM)
	Kernel: Depends on container host
	Compiler: gcc 11.5.0 20240719 (Red Hat 11.5.0-2)
To view detailed results, visit:
https://lab.dpdk.org/results/dashboard/patchsets/32638/
UNH-IOL DPDK Community Lab
To manage your email subscriptions, visit: 
https://lab.dpdk.org/results/dashboard/preferences/subscriptions/
    
    
More information about the test-report
mailing list