|SUCCESS| pw151986 [PATCH] net/nfp: fix get represetor wrong port st
dpdklab at iol.unh.edu
dpdklab at iol.unh.edu
Tue Feb 25 21:31:17 CET 2025
Test-Label: iol-sample-apps-testing
Test-Status: SUCCESS
http://dpdk.org/patch/151986
_Testing PASS_
Submitter: Chaoyong He <chaoyong.he at corigine.com>
Date: Tuesday, February 25 2025 01:34:54
DPDK git baseline: Repo:dpdk
Branch: master
CommitID:a9257af8d8f4f2eb93780a48b53e9342f09ebe9a
151986 --> testing pass
Upstream job id: ACVP-FIPS-testing#9041
Test environment and result as below:
+--------------------+----------------------+----------------------+
| Environment | compressdev_zlib_pmd | dpdk_fips_validation |
+====================+======================+======================+
| Ubuntu 22.04 (ARM) | PASS | SKIPPED |
+--------------------+----------------------+----------------------+
| Ubuntu 22.04 | PASS | SKIPPED |
+--------------------+----------------------+----------------------+
| Ubuntu 20.04 | SKIPPED | PASS |
+--------------------+----------------------+----------------------+
Ubuntu 22.04 (ARM)
Kernel: 5.15.0-97-generic
Compiler: gcc gcc (Ubuntu 11.4.0-1ubuntu1~22.04) 11.4.0
Ubuntu 22.04
Kernel: 5.15.0-100-generic
Compiler: gcc gcc (Ubuntu 11.4.0-1ubuntu1~22.04) 11.4.0
Ubuntu 20.04
Kernel: Depends on container host
Compiler: gcc (Ubuntu 9.4.0-1ubuntu1~20.04.2) 9.4.0
To view detailed results, visit:
https://lab.dpdk.org/results/dashboard/patchsets/32673/
UNH-IOL DPDK Community Lab
To manage your email subscriptions, visit:
https://lab.dpdk.org/results/dashboard/preferences/subscriptions/
More information about the test-report
mailing list