|SUCCESS| pw151987-151988 [PATCH] [2/2] net/xsc: suppress assign the
dpdklab at iol.unh.edu
dpdklab at iol.unh.edu
Wed Feb 26 10:29:47 CET 2025
Test-Label: iol-unit-arm64-testing
Test-Status: SUCCESS
http://dpdk.org/patch/151988
_Testing PASS_
Submitter: Renyong Wan <wanry at yunsilicon.com>
Date: Tuesday, February 25 2025 02:48:15
DPDK git baseline: Repo:dpdk
Branch: master
CommitID:5651e843d0fc6e01de164a9f9f3718c31e12ee2c
151987-151988 --> testing pass
Upstream job id: Generic-Unit-Test-DPDK#318748
Test environment and result as below:
+-----------------------------+----------------+--------------+---------------------------+------------------------------+
| Environment | dpdk_unit_test | lpm_autotest | cryptodev_sw_zuc_autotest | cryptodev_sw_snow3g_autotest |
+=============================+================+==============+===========================+==============================+
| 32-bit Ubuntu 22.04.4 (ARM) | PASS | SKIPPED | SKIPPED | SKIPPED |
+-----------------------------+----------------+--------------+---------------------------+------------------------------+
| CentOS Stream 9 (ARM) | PASS | SKIPPED | SKIPPED | SKIPPED |
+-----------------------------+----------------+--------------+---------------------------+------------------------------+
| Debian 12 (arm) | PASS | SKIPPED | PASS | PASS |
+-----------------------------+----------------+--------------+---------------------------+------------------------------+
| CentOS Stream 10 (ARM) | PASS | SKIPPED | SKIPPED | SKIPPED |
+-----------------------------+----------------+--------------+---------------------------+------------------------------+
| Debian 11 (Buster) (ARM) | PASS | SKIPPED | SKIPPED | SKIPPED |
+-----------------------------+----------------+--------------+---------------------------+------------------------------+
| Fedora 40 (ARM Clang) | PASS | SKIPPED | SKIPPED | SKIPPED |
+-----------------------------+----------------+--------------+---------------------------+------------------------------+
| Fedora 40 (ARM) | PASS | SKIPPED | SKIPPED | SKIPPED |
+-----------------------------+----------------+--------------+---------------------------+------------------------------+
| Fedora 41 (ARM) | PASS | SKIPPED | SKIPPED | SKIPPED |
+-----------------------------+----------------+--------------+---------------------------+------------------------------+
| RHEL9 (ARM) | PASS | SKIPPED | SKIPPED | SKIPPED |
+-----------------------------+----------------+--------------+---------------------------+------------------------------+
| Fedora 41 (ARM Clang) | PASS | SKIPPED | SKIPPED | SKIPPED |
+-----------------------------+----------------+--------------+---------------------------+------------------------------+
| Ubuntu 20.04 (ARM) | PASS | SKIPPED | SKIPPED | SKIPPED |
+-----------------------------+----------------+--------------+---------------------------+------------------------------+
| Ubuntu 22.04 (ARM) | PASS | SKIPPED | SKIPPED | SKIPPED |
+-----------------------------+----------------+--------------+---------------------------+------------------------------+
| Ubuntu 24.04 (ARM) | PASS | SKIPPED | SKIPPED | SKIPPED |
+-----------------------------+----------------+--------------+---------------------------+------------------------------+
| Ubuntu 20.04 ARM SVE | SKIPPED | PASS | SKIPPED | SKIPPED |
+-----------------------------+----------------+--------------+---------------------------+------------------------------+
32-bit Ubuntu 22.04.4 (ARM)
Kernel: 5.15.83+ aarch64
Compiler: gcc (Ubuntu 11.4.0-1ubuntu1~22.04) 11.4.0
CentOS Stream 9 (ARM)
Kernel: Depends on container host
Compiler: gcc 11.5.0 20240719 (Red Hat 11.5.0-2)
Debian 12 (arm)
Kernel: Depends on container host
Compiler: gcc (Debian 12.2.0-14) 12.2.0
CentOS Stream 10 (ARM)
Kernel: Depends on container host
Compiler: gcc 14.2.1 20241104 (Red Hat 14.2.1-6)
Debian 11 (Buster) (ARM)
Kernel: Depends on container host
Compiler: gcc (Debian 10.2.1-6) 10.2.1 20210110
Fedora 40 (ARM Clang)
Kernel: Depends on container host
Compiler: clang 18.1.8 (Fedora 18.1.8-1.fc40)
Fedora 40 (ARM)
Kernel: Depends on container host
Compiler: gcc 14.2.1 20240912 (Red Hat 14.2.1-3)
Fedora 41 (ARM)
Kernel: Depends on container host
Compiler: gcc 14.2.1 20240912 (Red Hat 14.2.1-3)
RHEL9 (ARM)
Kernel: Depends on container host
Compiler: gcc 11.5.0 20240719 (Red Hat 11.5.0-2)
Fedora 41 (ARM Clang)
Kernel: Depends on container host
Compiler: clang 19.1.5 (Fedora 19.1.5-1.fc41)
Ubuntu 20.04 (ARM)
Kernel: Depends on container host
Compiler: gcc (Ubuntu 9.4.0-1ubuntu1~20.04.2) 9.4.0
Ubuntu 22.04 (ARM)
Kernel: Depends on container host
Compiler: gcc (Ubuntu 11.4.0-1ubuntu1~22.04) 11.4.0
Ubuntu 24.04 (ARM)
Kernel: Depends on container host
Compiler: gcc (Ubuntu 13.3.0-6ubuntu2~24.04) 13.3.0
Ubuntu 20.04 ARM SVE
Kernel: Depends on container host
Compiler: gcc (Ubuntu 10.5.0-1ubuntu1~20.04) 10.5.0
To view detailed results, visit:
https://lab.dpdk.org/results/dashboard/patchsets/32674/
UNH-IOL DPDK Community Lab
To manage your email subscriptions, visit:
https://lab.dpdk.org/results/dashboard/preferences/subscriptions/
More information about the test-report
mailing list