|WARNING| pw152041-152044 [PATCH] [V1,4/4] net/mlx5/hws: allow diffe

dpdklab at iol.unh.edu dpdklab at iol.unh.edu
Wed Feb 26 19:21:53 CET 2025


Test-Label: iol-sample-apps-testing
Test-Status: WARNING
http://dpdk.org/patch/152044

_Testing issues_

Submitter: Ophir Munk <ophirmu at nvidia.com>
Date: Tuesday, February 25 2025 12:02:13 
DPDK git baseline: Repo:dpdk
  Branch: master
  CommitID:61fc05f1c6a079c0b25b27d1668450134a784d56

152041-152044 --> testing issues

Upstream job id: ACVP-FIPS-testing#9048

Test environment and result as below:

+--------------------+----------------------+----------------------+
|    Environment     | compressdev_zlib_pmd | dpdk_fips_validation |
+====================+======================+======================+
| Ubuntu 22.04 (ARM) | PASS                 | SKIPPED              |
+--------------------+----------------------+----------------------+
| Ubuntu 22.04       | PASS                 | SKIPPED              |
+--------------------+----------------------+----------------------+
| Ubuntu 20.04       | SKIPPED              | WARN                 |
+--------------------+----------------------+----------------------+

==== 20 line log output for Ubuntu 20.04 (dpdk_fips_validation): ====
|                                                                    ^
cc1: all warnings being treated as errors
[2091/3183] Compiling C object drivers/libtmp_rte_net_qede.a.p/net_qede_qede_debug.c.o
[2092/3183] Compiling C object drivers/libtmp_rte_net_sfc.a.p/net_sfc_sfc_kvargs.c.o
[2093/3183] Compiling C object drivers/libtmp_rte_net_sfc.a.p/net_sfc_sfc_intr.c.o
[2094/3183] Compiling C object drivers/libtmp_rte_net_sfc.a.p/net_sfc_sfc_mcdi.c.o
[2095/3183] Compiling C object drivers/libtmp_rte_net_sfc.a.p/net_sfc_sfc_sriov.c.o
[2096/3183] Compiling C object drivers/libtmp_rte_net_sfc.a.p/net_sfc_sfc.c.o
[2097/3183] Generating rte_net_r8169.pmd.c with a custom command
[2098/3183] Compiling C object drivers/libtmp_rte_net_sfc.a.p/net_sfc_sfc_ev.c.o
[2099/3183] Compiling C object drivers/libtmp_rte_net_ring.a.p/net_ring_rte_eth_ring.c.o
[2100/3183] Compiling C object drivers/libtmp_rte_net_sfc.a.p/net_sfc_sfc_ethdev.c.o
[2101/3183] Compiling C object drivers/libtmp_rte_net_sfc.a.p/net_sfc_sfc_sw_stats.c.o
[2102/3183] Compiling C object drivers/libtmp_rte_net_sfc.a.p/net_sfc_sfc_tso.c.o
[2103/3183] Compiling C object drivers/libtmp_rte_net_sfc.a.p/net_sfc_sfc_filter.c.o
[2104/3183] Compiling C object drivers/libtmp_rte_net_sfc.a.p/net_sfc_sfc_port.c.o
[2105/3183] Compiling C object drivers/libtmp_rte_net_sfc.a.p/net_sfc_sfc_tx.c.o
[2106/3183] Compiling C object drivers/libtmp_rte_net_sfc.a.p/net_sfc_sfc_rx.c.o
[2107/3183] Generating rte_common_cnxk.sym_chk with a custom command (wrapped by meson to capture output)
ninja: build stopped: subcommand failed.
==== End log output ====

Ubuntu 22.04 (ARM)
	Kernel: 5.15.0-97-generic
	Compiler: gcc gcc (Ubuntu 11.4.0-1ubuntu1~22.04) 11.4.0

Ubuntu 22.04
	Kernel: 5.15.0-100-generic
	Compiler: gcc gcc (Ubuntu 11.4.0-1ubuntu1~22.04) 11.4.0

Ubuntu 20.04
	Kernel: Depends on container host
	Compiler: gcc (Ubuntu 9.4.0-1ubuntu1~20.04.2) 9.4.0

To view detailed results, visit:
https://lab.dpdk.org/results/dashboard/patchsets/32681/

UNH-IOL DPDK Community Lab

To manage your email subscriptions, visit: 
https://lab.dpdk.org/results/dashboard/preferences/subscriptions/


More information about the test-report mailing list