|SUCCESS| pw152018 [PATCH] net/mlx5: fix queue counter error check

dpdklab at iol.unh.edu dpdklab at iol.unh.edu
Wed Feb 26 21:07:26 CET 2025


Test-Label: iol-sample-apps-testing
Test-Status: SUCCESS
http://dpdk.org/patch/152018

_Testing PASS_

Submitter: Dariusz Sosnowski <dsosnowski at nvidia.com>
Date: Tuesday, February 25 2025 09:08:45 
DPDK git baseline: Repo:dpdk
  Branch: master
  CommitID:61fc05f1c6a079c0b25b27d1668450134a784d56

152018 --> testing pass

Upstream job id: Template-DTS-Pipeline#214705

Test environment and result as below:

+--------------------+----------------------+----------------------+
|    Environment     | dpdk_fips_validation | compressdev_zlib_pmd |
+====================+======================+======================+
| Ubuntu 20.04       | PASS                 | SKIPPED              |
+--------------------+----------------------+----------------------+
| Ubuntu 22.04 (ARM) | SKIPPED              | PASS                 |
+--------------------+----------------------+----------------------+
| Ubuntu 22.04       | SKIPPED              | PASS                 |
+--------------------+----------------------+----------------------+


Ubuntu 20.04
	Kernel: Depends on container host
	Compiler: gcc (Ubuntu 9.4.0-1ubuntu1~20.04.2) 9.4.0

Ubuntu 22.04 (ARM)
	Kernel: 5.15.0-97-generic
	Compiler: gcc gcc (Ubuntu 11.4.0-1ubuntu1~22.04) 11.4.0

Ubuntu 22.04
	Kernel: 5.15.0-100-generic
	Compiler: gcc gcc (Ubuntu 11.4.0-1ubuntu1~22.04) 11.4.0

To view detailed results, visit:
https://lab.dpdk.org/results/dashboard/patchsets/32676/

UNH-IOL DPDK Community Lab

To manage your email subscriptions, visit: 
https://lab.dpdk.org/results/dashboard/preferences/subscriptions/


More information about the test-report mailing list