|SUCCESS| pw149566 [PATCH] [v2] eal: fix unused memseg length

dpdklab at iol.unh.edu dpdklab at iol.unh.edu
Thu Jan 2 20:37:06 CET 2025


Test-Label: iol-sample-apps-testing
Test-Status: SUCCESS
http://dpdk.org/patch/149566

_Testing PASS_

Submitter: Yang Ming <ming.1.yang at nokia-sbell.com>
Date: Thursday, January 02 2025 08:58:38 
DPDK git baseline: Repo:dpdk
  Branch: master
  CommitID:fd51012de5369679e807be1d6a81d63ef15015ce

149566 --> testing pass

Upstream job id: ACVP-FIPS-testing#8437

Test environment and result as below:

+--------------------+----------------------+----------------------+
|    Environment     | dpdk_fips_validation | compressdev_zlib_pmd |
+====================+======================+======================+
| Ubuntu 20.04       | PASS                 | SKIPPED              |
+--------------------+----------------------+----------------------+
| Ubuntu 22.04 (ARM) | SKIPPED              | PASS                 |
+--------------------+----------------------+----------------------+
| Ubuntu 22.04       | SKIPPED              | PASS                 |
+--------------------+----------------------+----------------------+


Ubuntu 20.04
	Kernel: Depends on container host
	Compiler: gcc (Ubuntu 9.4.0-1ubuntu1~20.04.2) 9.4.0

Ubuntu 22.04 (ARM)
	Kernel: 5.15.0-97-generic
	Compiler: gcc gcc (Ubuntu 11.4.0-1ubuntu1~22.04) 11.4.0

Ubuntu 22.04
	Kernel: 5.15.0-100-generic
	Compiler: gcc gcc (Ubuntu 11.4.0-1ubuntu1~22.04) 11.4.0

To view detailed results, visit:
https://lab.dpdk.org/results/dashboard/patchsets/32236/

UNH-IOL DPDK Community Lab

To manage your email subscriptions, visit: 
https://lab.dpdk.org/results/dashboard/preferences/subscriptions/


More information about the test-report mailing list