|SUCCESS| [GIT MASTER] 7ce7d3341d7e21c2a81f2fea8e451681d7306d77

dpdklab at iol.unh.edu dpdklab at iol.unh.edu
Sat Jan 4 07:37:48 CET 2025


_Testing PASS_

Branch: tags/v22.11

7ce7d3341d7e21c2a81f2fea8e451681d7306d77 --> testing pass

Upstream job id: Generic-Unit-Test-DPDK#303558

Test environment and result as below:

+----------------------+--------------+------------------------------+---------------------------+
|     Environment      | lpm_autotest | cryptodev_sw_snow3g_autotest | cryptodev_sw_zuc_autotest |
+======================+==============+==============================+===========================+
| Ubuntu 20.04 ARM SVE | PASS         | SKIPPED                      | SKIPPED                   |
+----------------------+--------------+------------------------------+---------------------------+
| Debian 12 (arm)      | SKIPPED      | PASS                         | PASS                      |
+----------------------+--------------+------------------------------+---------------------------+


Ubuntu 20.04 ARM SVE
	Kernel: Depends on container host
	Compiler: gcc (Ubuntu 10.5.0-1ubuntu1~20.04) 10.5.0

Debian 12 (arm)
	Kernel: Depends on container host
	Compiler: gcc (Debian 12.2.0-14) 12.2.0

To view detailed results, visit:
https://lab.dpdk.org/results/dashboard/tarballs/32107/

UNH-IOL DPDK Community Lab

To manage your email subscriptions, visit: 
https://lab.dpdk.org/results/dashboard/preferences/subscriptions/


More information about the test-report mailing list