|SUCCESS| pw149634 [PATCH] ring: add the second version of the RTS i

dpdklab at iol.unh.edu dpdklab at iol.unh.edu
Sun Jan 5 12:50:41 CET 2025


Test-Label: iol-sample-apps-testing
Test-Status: SUCCESS
http://dpdk.org/patch/149634

_Testing PASS_

Submitter: Huichao Cai <chcchc88 at 163.com>
Date: Sunday, January 05 2025 09:57:46 
DPDK git baseline: Repo:dpdk
  Branch: master
  CommitID:fd51012de5369679e807be1d6a81d63ef15015ce

149634 --> testing pass

Upstream job id: Template-DTS-Pipeline#205443

Test environment and result as below:

+--------------------+----------------------+----------------------+
|    Environment     | compressdev_zlib_pmd | dpdk_fips_validation |
+====================+======================+======================+
| Ubuntu 22.04 (ARM) | PASS                 | SKIPPED              |
+--------------------+----------------------+----------------------+
| Ubuntu 22.04       | PASS                 | SKIPPED              |
+--------------------+----------------------+----------------------+
| Ubuntu 20.04       | SKIPPED              | PASS                 |
+--------------------+----------------------+----------------------+


Ubuntu 22.04 (ARM)
	Kernel: 5.15.0-97-generic
	Compiler: gcc gcc (Ubuntu 11.4.0-1ubuntu1~22.04) 11.4.0

Ubuntu 22.04
	Kernel: 5.15.0-100-generic
	Compiler: gcc gcc (Ubuntu 11.4.0-1ubuntu1~22.04) 11.4.0

Ubuntu 20.04
	Kernel: Depends on container host
	Compiler: gcc (Ubuntu 9.4.0-1ubuntu1~20.04.2) 9.4.0

To view detailed results, visit:
https://lab.dpdk.org/results/dashboard/patchsets/32253/

UNH-IOL DPDK Community Lab

To manage your email subscriptions, visit: 
https://lab.dpdk.org/results/dashboard/preferences/subscriptions/


More information about the test-report mailing list