|SUCCESS| pw149664 [PATCH] crypto/virtio: fix dataqueues iteration
    dpdklab at iol.unh.edu 
    dpdklab at iol.unh.edu
       
    Tue Jan  7 21:43:22 CET 2025
    
    
  
Test-Label: iol-compile-amd64-testing
Test-Status: SUCCESS
http://dpdk.org/patch/149664
_Testing PASS_
Submitter: Gowrishankar Muthukrishnan <gmuthukrishn at marvell.com>
Date: Tuesday, January 07 2025 17:36:02 
DPDK git baseline: Repo:dpdk
  Branch: master
  CommitID:7df61db6c387703a36306c1aea92225921e2eeb2
149664 --> testing pass
Upstream job id: Generic-VM-DPDK-Compile-Meson#32461
Test environment and result as below:
+---------------------+-----------------------+-------------------+--------------------+
|     Environment     | dpdk_win_llvm_compile | dpdk_msvc_compile | dpdk_meson_compile |
+=====================+=======================+===================+====================+
| Windows Server 2022 | PASS                  | PASS              | SKIPPED            |
+---------------------+-----------------------+-------------------+--------------------+
| FreeBSD 14.2        | SKIPPED               | SKIPPED           | PASS               |
+---------------------+-----------------------+-------------------+--------------------+
| FreeBSD 13.4        | SKIPPED               | SKIPPED           | PASS               |
+---------------------+-----------------------+-------------------+--------------------+
Windows Server 2022
	Kernel: 10.0.20348.2031
	Compiler: clang 15.0.7, gcc 14.1.0 (MinGW), and MSVC VS 19.39.33521
FreeBSD 14.2
	Kernel: 14.2-RELEASE
	Compiler: clang 18.1.6
FreeBSD 13.4
	Kernel: 13.4-RELEASE-p1
	Compiler: clang 18.1.6
To view detailed results, visit:
https://lab.dpdk.org/results/dashboard/patchsets/32267/
UNH-IOL DPDK Community Lab
To manage your email subscriptions, visit: 
https://lab.dpdk.org/results/dashboard/preferences/subscriptions/
    
    
More information about the test-report
mailing list