|SUCCESS| pw149672 [PATCH] [v3] vhost: include AKCIPHER algorithms i
    dpdklab at iol.unh.edu 
    dpdklab at iol.unh.edu
       
    Wed Jan  8 08:39:19 CET 2025
    
    
  
Test-Label: iol-compile-amd64-testing
Test-Status: SUCCESS
http://dpdk.org/patch/149672
_Testing PASS_
Submitter: Gowrishankar Muthukrishnan <gmuthukrishn at marvell.com>
Date: Tuesday, January 07 2025 18:25:49 
DPDK git baseline: Repo:dpdk
  Branch: master
  CommitID:07604f264417959d76aa9fcb8cb0c3665f62f0d3
149672 --> testing pass
Upstream job id: Windows-Compile-DPDK-Native#25727
Test environment and result as below:
+---------------------+--------------------+-------------------+-----------------------+
|     Environment     | dpdk_meson_compile | dpdk_msvc_compile | dpdk_win_llvm_compile |
+=====================+====================+===================+=======================+
| FreeBSD 13.4        | PASS               | SKIPPED           | SKIPPED               |
+---------------------+--------------------+-------------------+-----------------------+
| FreeBSD 14.2        | PASS               | SKIPPED           | SKIPPED               |
+---------------------+--------------------+-------------------+-----------------------+
| Windows Server 2022 | SKIPPED            | PASS              | PASS                  |
+---------------------+--------------------+-------------------+-----------------------+
FreeBSD 13.4
	Kernel: 13.4-RELEASE-p1
	Compiler: clang 18.1.6
FreeBSD 14.2
	Kernel: 14.2-RELEASE
	Compiler: clang 18.1.6
Windows Server 2022
	Kernel: 10.0.20348.2031
	Compiler: clang 15.0.7, gcc 14.1.0 (MinGW), and MSVC VS 19.39.33521
To view detailed results, visit:
https://lab.dpdk.org/results/dashboard/patchsets/32272/
UNH-IOL DPDK Community Lab
To manage your email subscriptions, visit: 
https://lab.dpdk.org/results/dashboard/preferences/subscriptions/
    
    
More information about the test-report
mailing list