|SUCCESS| pw149665 [PATCH] test/crypto: check for RSA capability
    dpdklab at iol.unh.edu 
    dpdklab at iol.unh.edu
       
    Thu Jan  9 04:03:03 CET 2025
    
    
  
Test-Label: iol-compile-amd64-testing
Test-Status: SUCCESS
http://dpdk.org/patch/149665
_Testing PASS_
Submitter: Gowrishankar Muthukrishnan <gmuthukrishn at marvell.com>
Date: Tuesday, January 07 2025 17:38:30 
DPDK git baseline: Repo:dpdk
  Branch: master
  CommitID:7df61db6c387703a36306c1aea92225921e2eeb2
149665 --> testing pass
Upstream job id: Windows-Compile-DPDK-Native#25732
Test environment and result as below:
+---------------------+-------------------+-----------------------+----------------------+
|     Environment     | dpdk_msvc_compile | dpdk_win_llvm_compile | dpdk_mingw64_compile |
+=====================+===================+=======================+======================+
| Windows Server 2022 | PASS              | PASS                  | PASS                 |
+---------------------+-------------------+-----------------------+----------------------+
Windows Server 2022
	Kernel: 10.0.20348.2031
	Compiler: clang 15.0.7, gcc 14.1.0 (MinGW), and MSVC VS 19.39.33521
To view detailed results, visit:
https://lab.dpdk.org/results/dashboard/patchsets/32268/
UNH-IOL DPDK Community Lab
To manage your email subscriptions, visit: 
https://lab.dpdk.org/results/dashboard/preferences/subscriptions/
    
    
More information about the test-report
mailing list