|WARNING| pw149788-149857 [PATCH] [v14,81/81] drivers/vdpa: add comp
dpdklab at iol.unh.edu
dpdklab at iol.unh.edu
Fri Jan 10 23:24:19 CET 2025
Test-Label: iol-sample-apps-testing
Test-Status: WARNING
http://dpdk.org/patch/149857
_Testing issues_
Submitter: Andre Muezerie <andremue at linux.microsoft.com>
Date: Friday, January 10 2025 20:23:40
DPDK git baseline: Repo:dpdk
Branch: master
CommitID:fd51012de5369679e807be1d6a81d63ef15015ce
149788-149857 --> testing issues
Upstream job id: Template-DTS-Pipeline#206304
Test environment and result as below:
+--------------------+----------------------+----------------------+
| Environment | compressdev_zlib_pmd | dpdk_fips_validation |
+====================+======================+======================+
| Ubuntu 22.04 (ARM) | PASS | SKIPPED |
+--------------------+----------------------+----------------------+
| Ubuntu 22.04 | PASS | SKIPPED |
+--------------------+----------------------+----------------------+
| Ubuntu 20.04 | SKIPPED | WARN |
+--------------------+----------------------+----------------------+
==== 20 line log output for Ubuntu 20.04 (dpdk_fips_validation): ====
| ^~~~~
cc1: all warnings being treated as errors
[164/3162] Compiling C object lib/librte_timer.a.p/timer_rte_timer.c.o
[165/3162] Compiling C object lib/librte_acl.a.p/acl_tb_mem.c.o
[166/3162] Compiling C object lib/librte_hash.a.p/hash_rte_thash.c.o
[167/3162] Compiling C object lib/librte_acl.a.p/acl_rte_acl.c.o
[168/3162] Compiling C object lib/librte_acl.a.p/acl_acl_gen.c.o
[169/3162] Compiling C object lib/librte_acl.a.p/acl_acl_run_scalar.c.o
[170/3162] Compiling C object lib/librte_bpf.a.p/bpf_bpf.c.o
[171/3162] Compiling C object lib/librte_bitratestats.a.p/bitratestats_rte_bitrate.c.o
[172/3162] Compiling C object lib/librte_acl.a.p/acl_acl_bld.c.o
[173/3162] Compiling C object lib/librte_bbdev.a.p/bbdev_rte_bbdev.c.o
[174/3162] Generating cmdline.sym_chk with a custom command (wrapped by meson to capture output)
[175/3162] Compiling C object lib/librte_acl.a.p/acl_acl_run_sse.c.o
[176/3162] Compiling C object lib/acl/libavx2_tmp.a.p/acl_run_avx2.c.o
[177/3162] Compiling C object lib/librte_hash.a.p/hash_rte_cuckoo_hash.c.o
[178/3162] Compiling C object lib/librte_acl.a.p/acl_acl_run_avx512.c.o
[179/3162] Compiling C object lib/librte_ethdev.a.p/ethdev_rte_ethdev.c.o
[180/3162] Generating eal.sym_chk with a custom command (wrapped by meson to capture output)
ninja: build stopped: subcommand failed.
==== End log output ====
Ubuntu 22.04 (ARM)
Kernel: 5.15.0-97-generic
Compiler: gcc gcc (Ubuntu 11.4.0-1ubuntu1~22.04) 11.4.0
Ubuntu 22.04
Kernel: 5.15.0-100-generic
Compiler: gcc gcc (Ubuntu 11.4.0-1ubuntu1~22.04) 11.4.0
Ubuntu 20.04
Kernel: Depends on container host
Compiler: gcc (Ubuntu 9.4.0-1ubuntu1~20.04.2) 9.4.0
To view detailed results, visit:
https://lab.dpdk.org/results/dashboard/patchsets/32295/
UNH-IOL DPDK Community Lab
To manage your email subscriptions, visit:
https://lab.dpdk.org/results/dashboard/preferences/subscriptions/
More information about the test-report
mailing list