|SUCCESS| [GIT MASTER] fd51012de5369679e807be1d6a81d63ef15015ce

dpdklab at iol.unh.edu dpdklab at iol.unh.edu
Tue Jan 14 02:43:32 CET 2025


_Testing PASS_

Branch: dpdk

fd51012de5369679e807be1d6a81d63ef15015ce --> testing pass

Upstream job id: Windows-Compile-DPDK-VS#4595

Test environment and result as below:

+---------------------+-----------------------+-------------------+--------------------+
|     Environment     | dpdk_win_llvm_compile | dpdk_msvc_compile | dpdk_meson_compile |
+=====================+=======================+===================+====================+
| Windows Server 2022 | PASS                  | PASS              | SKIPPED            |
+---------------------+-----------------------+-------------------+--------------------+
| FreeBSD 13.4        | SKIPPED               | SKIPPED           | PASS               |
+---------------------+-----------------------+-------------------+--------------------+
| FreeBSD 14.2        | SKIPPED               | SKIPPED           | PASS               |
+---------------------+-----------------------+-------------------+--------------------+


Windows Server 2022
	Kernel: 10.0.20348.2031
	Compiler: clang 15.0.7, gcc 14.1.0 (MinGW), and MSVC VS 19.39.33521

FreeBSD 13.4
	Kernel: 13.4-RELEASE-p1
	Compiler: clang 18.1.6

FreeBSD 14.2
	Kernel: 14.2-RELEASE
	Compiler: clang 18.1.6

To view detailed results, visit:
https://lab.dpdk.org/results/dashboard/tarballs/32188/

UNH-IOL DPDK Community Lab

To manage your email subscriptions, visit: 
https://lab.dpdk.org/results/dashboard/preferences/subscriptions/


More information about the test-report mailing list