|SUCCESS| pw150061-150066 [PATCH] [v4,6/6] lib/vhost: remove check a
dpdklab at iol.unh.edu
dpdklab at iol.unh.edu
Tue Jan 14 14:45:54 CET 2025
Test-Label: iol-sample-apps-testing
Test-Status: SUCCESS
http://dpdk.org/patch/150066
_Testing PASS_
Submitter: Ariel Otilibili-Anieli <otilibil at eurecom.fr>
Date: Tuesday, January 14 2025 07:50:33
DPDK git baseline: Repo:dpdk
Branch: master
CommitID:6a56a98a8a198d386e764be9bea343d69b09c0bf
150061-150066 --> testing pass
Upstream job id: ACVP-FIPS-testing#8544
Test environment and result as below:
+--------------------+----------------------+----------------------+
| Environment | compressdev_zlib_pmd | dpdk_fips_validation |
+====================+======================+======================+
| Ubuntu 22.04 (ARM) | PASS | SKIPPED |
+--------------------+----------------------+----------------------+
| Ubuntu 22.04 | PASS | SKIPPED |
+--------------------+----------------------+----------------------+
| Ubuntu 20.04 | SKIPPED | PASS |
+--------------------+----------------------+----------------------+
Ubuntu 22.04 (ARM)
Kernel: 5.15.0-97-generic
Compiler: gcc gcc (Ubuntu 11.4.0-1ubuntu1~22.04) 11.4.0
Ubuntu 22.04
Kernel: 5.15.0-100-generic
Compiler: gcc gcc (Ubuntu 11.4.0-1ubuntu1~22.04) 11.4.0
Ubuntu 20.04
Kernel: Depends on container host
Compiler: gcc (Ubuntu 9.4.0-1ubuntu1~20.04.2) 9.4.0
To view detailed results, visit:
https://lab.dpdk.org/results/dashboard/patchsets/32314/
UNH-IOL DPDK Community Lab
To manage your email subscriptions, visit:
https://lab.dpdk.org/results/dashboard/preferences/subscriptions/
More information about the test-report
mailing list