|SUCCESS| pw150090 [PATCH] [v2] net/i40e/base: fix the debug print f
dpdklab at iol.unh.edu
dpdklab at iol.unh.edu
Wed Jan 15 14:01:36 CET 2025
Test-Label: iol-sample-apps-testing
Test-Status: SUCCESS
http://dpdk.org/patch/150090
_Testing PASS_
Submitter: Jaroslaw Ilgiewicz <jaroslaw.ilgiewicz at intel.com>
Date: Wednesday, January 15 2025 07:44:17
DPDK git baseline: Repo:dpdk
Branch: master
CommitID:ce85dd8562ad9673eb4fe46b4a8bd3a508e8b32f
150090 --> testing pass
Upstream job id: ACVP-FIPS-testing#8556
Test environment and result as below:
+--------------------+----------------------+----------------------+
| Environment | compressdev_zlib_pmd | dpdk_fips_validation |
+====================+======================+======================+
| Ubuntu 22.04 (ARM) | PASS | SKIPPED |
+--------------------+----------------------+----------------------+
| Ubuntu 22.04 | PASS | SKIPPED |
+--------------------+----------------------+----------------------+
| Ubuntu 20.04 | SKIPPED | PASS |
+--------------------+----------------------+----------------------+
Ubuntu 22.04 (ARM)
Kernel: 5.15.0-97-generic
Compiler: gcc gcc (Ubuntu 11.4.0-1ubuntu1~22.04) 11.4.0
Ubuntu 22.04
Kernel: 5.15.0-100-generic
Compiler: gcc gcc (Ubuntu 11.4.0-1ubuntu1~22.04) 11.4.0
Ubuntu 20.04
Kernel: Depends on container host
Compiler: gcc (Ubuntu 9.4.0-1ubuntu1~20.04.2) 9.4.0
To view detailed results, visit:
https://lab.dpdk.org/results/dashboard/patchsets/32325/
UNH-IOL DPDK Community Lab
To manage your email subscriptions, visit:
https://lab.dpdk.org/results/dashboard/preferences/subscriptions/
More information about the test-report
mailing list