|SUCCESS| pw150099-150102 [PATCH] [v2,4/4] vhost: improve RARP handl
    dpdklab at iol.unh.edu 
    dpdklab at iol.unh.edu
       
    Wed Jan 15 16:52:27 CET 2025
    
    
  
Test-Label: iol-unit-arm64-testing
Test-Status: SUCCESS
http://dpdk.org/patch/150102
_Testing PASS_
Submitter: Maxime Coquelin <maxime.coquelin at redhat.com>
Date: Wednesday, January 15 2025 12:59:38 
DPDK git baseline: Repo:dpdk
  Branch: master
  CommitID:07604f264417959d76aa9fcb8cb0c3665f62f0d3
150099-150102 --> testing pass
Upstream job id: Generic-Unit-Test-DPDK#306098
Test environment and result as below:
+--------------------------+----------------+--------------+---------------------------+------------------------------+
|       Environment        | dpdk_unit_test | lpm_autotest | cryptodev_sw_zuc_autotest | cryptodev_sw_snow3g_autotest |
+==========================+================+==============+===========================+==============================+
| CentOS Stream 9 (ARM)    | PASS           | SKIPPED      | SKIPPED                   | SKIPPED                      |
+--------------------------+----------------+--------------+---------------------------+------------------------------+
| Debian 12 (arm)          | PASS           | SKIPPED      | PASS                      | PASS                         |
+--------------------------+----------------+--------------+---------------------------+------------------------------+
| Debian 11 (Buster) (ARM) | PASS           | SKIPPED      | SKIPPED                   | SKIPPED                      |
+--------------------------+----------------+--------------+---------------------------+------------------------------+
| Fedora 40 (ARM Clang)    | PASS           | SKIPPED      | SKIPPED                   | SKIPPED                      |
+--------------------------+----------------+--------------+---------------------------+------------------------------+
| Fedora 41 (ARM Clang)    | PASS           | SKIPPED      | SKIPPED                   | SKIPPED                      |
+--------------------------+----------------+--------------+---------------------------+------------------------------+
| Fedora 40 (ARM)          | PASS           | SKIPPED      | SKIPPED                   | SKIPPED                      |
+--------------------------+----------------+--------------+---------------------------+------------------------------+
| Fedora 41 (ARM)          | PASS           | SKIPPED      | SKIPPED                   | SKIPPED                      |
+--------------------------+----------------+--------------+---------------------------+------------------------------+
| Ubuntu 20.04 (ARM)       | PASS           | SKIPPED      | SKIPPED                   | SKIPPED                      |
+--------------------------+----------------+--------------+---------------------------+------------------------------+
| RHEL9 (ARM)              | PASS           | SKIPPED      | SKIPPED                   | SKIPPED                      |
+--------------------------+----------------+--------------+---------------------------+------------------------------+
| Ubuntu 22.04 (ARM)       | PASS           | SKIPPED      | SKIPPED                   | SKIPPED                      |
+--------------------------+----------------+--------------+---------------------------+------------------------------+
| Ubuntu 24.04 (ARM)       | PASS           | SKIPPED      | SKIPPED                   | SKIPPED                      |
+--------------------------+----------------+--------------+---------------------------+------------------------------+
| Ubuntu 20.04 ARM SVE     | SKIPPED        | PASS         | SKIPPED                   | SKIPPED                      |
+--------------------------+----------------+--------------+---------------------------+------------------------------+
CentOS Stream 9 (ARM)
	Kernel: Depends on container host
	Compiler: gcc 11.5.0 20240719 (Red Hat 11.5.0-2)
Debian 12 (arm)
	Kernel: Depends on container host
	Compiler: gcc (Debian 12.2.0-14) 12.2.0
Debian 11 (Buster) (ARM)
	Kernel: Depends on container host
	Compiler: gcc (Debian 10.2.1-6) 10.2.1 20210110
Fedora 40 (ARM Clang)
	Kernel: Depends on container host
	Compiler: clang 18.1.8 (Fedora 18.1.8-1.fc40)
Fedora 41 (ARM Clang)
	Kernel: Depends on container host
	Compiler: clang 19.1.5 (Fedora 19.1.5-1.fc41)
Fedora 40 (ARM)
	Kernel: Depends on container host
	Compiler: gcc 14.2.1 20240912 (Red Hat 14.2.1-3)
Fedora 41 (ARM)
	Kernel: Depends on container host
	Compiler: gcc 14.2.1 20240912 (Red Hat 14.2.1-3)
Ubuntu 20.04 (ARM)
	Kernel: Depends on container host
	Compiler: gcc (Ubuntu 9.4.0-1ubuntu1~20.04.2) 9.4.0
RHEL9 (ARM)
	Kernel: Depends on container host
	Compiler: gcc 11.5.0 20240719 (Red Hat 11.5.0-2)
Ubuntu 22.04 (ARM)
	Kernel: Depends on container host
	Compiler: gcc (Ubuntu 11.4.0-1ubuntu1~22.04) 11.4.0
Ubuntu 24.04 (ARM)
	Kernel: Depends on container host
	Compiler: gcc (Ubuntu 13.3.0-6ubuntu2~24.04) 13.3.0
Ubuntu 20.04 ARM SVE
	Kernel: Depends on container host
	Compiler: gcc (Ubuntu 10.5.0-1ubuntu1~20.04) 10.5.0
To view detailed results, visit:
https://lab.dpdk.org/results/dashboard/patchsets/32330/
UNH-IOL DPDK Community Lab
To manage your email subscriptions, visit: 
https://lab.dpdk.org/results/dashboard/preferences/subscriptions/
    
    
More information about the test-report
mailing list