|WARNING| pw150153-150154 [PATCH] [2/2] net/af_xdp: Refactor af_xdp_
dpdklab at iol.unh.edu
dpdklab at iol.unh.edu
Thu Jan 16 22:25:51 CET 2025
Test-Label: iol-sample-apps-testing
Test-Status: WARNING
http://dpdk.org/patch/150154
_Testing issues_
Submitter: Ariel Otilibili <ariel.otilibili at 6wind.com>
Date: Thursday, January 16 2025 19:56:39
DPDK git baseline: Repo:dpdk
Branch: master
CommitID:34ea86164bf17a431ec5ef78d7e51e2e9b3fd75e
150153-150154 --> testing issues
Upstream job id: Template-DTS-Pipeline#207378
Test environment and result as below:
+--------------------+----------------------+----------------------+
| Environment | dpdk_fips_validation | compressdev_zlib_pmd |
+====================+======================+======================+
| Ubuntu 20.04 | WARN | SKIPPED |
+--------------------+----------------------+----------------------+
| Ubuntu 22.04 (ARM) | SKIPPED | PASS |
+--------------------+----------------------+----------------------+
| Ubuntu 22.04 | SKIPPED | PASS |
+--------------------+----------------------+----------------------+
==== 20 line log output for Ubuntu 20.04 (dpdk_fips_validation): ====
| ^~~
../drivers/net/af_xdp/rte_eth_af_xdp.c:600:3: note: each undeclared identifier is reported only once for each function it appears in
[1043/3167] Compiling C object drivers/librte_dma_cnxk.so.25.1.p/meson-generated_.._rte_dma_cnxk.pmd.c.o
[1044/3167] Compiling C object drivers/libtmp_rte_dma_dpaa.a.p/dma_dpaa_dpaa_qdma.c.o
[1045/3167] Compiling C object drivers/libtmp_rte_net_ark.a.p/net_ark_ark_ethdev.c.o
[1046/3167] Generating symbol file drivers/librte_mempool_dpaa2.so.25.1.p/librte_mempool_dpaa2.so.25.1.symbols
[1047/3167] Compiling C object drivers/libtmp_rte_net_ark.a.p/net_ark_ark_mpu.c.o
[1048/3167] Compiling C object drivers/libtmp_rte_net_ark.a.p/net_ark_ark_ethdev_rx.c.o
[1049/3167] Compiling C object drivers/libtmp_rte_net_ark.a.p/net_ark_ark_pktchkr.c.o
[1050/3167] Compiling C object drivers/libtmp_rte_net_af_packet.a.p/net_af_packet_rte_eth_af_packet.c.o
[1051/3167] Compiling C object drivers/libtmp_rte_net_ark.a.p/net_ark_ark_pktgen.c.o
[1052/3167] Generating rte_dma_cnxk.sym_chk with a custom command (wrapped by meson to capture output)
[1053/3167] Compiling C object drivers/libtmp_rte_net_ark.a.p/net_ark_ark_pktdir.c.o
[1054/3167] Compiling C object drivers/libtmp_rte_net_ark.a.p/net_ark_ark_ethdev_tx.c.o
[1055/3167] Compiling C object drivers/libtmp_rte_dma_skeleton.a.p/dma_skeleton_skeleton_dmadev.c.o
[1056/3167] Generating rte_common_mlx5.sym_chk with a custom command (wrapped by meson to capture output)
[1057/3167] Generating pipeline.sym_chk with a custom command (wrapped by meson to capture output)
[1058/3167] Generating rte_common_sfc_efx.sym_chk with a custom command (wrapped by meson to capture output)
[1059/3167] Generating rte_common_cnxk.sym_chk with a custom command (wrapped by meson to capture output)
ninja: build stopped: subcommand failed.
==== End log output ====
Ubuntu 20.04
Kernel: Depends on container host
Compiler: gcc (Ubuntu 9.4.0-1ubuntu1~20.04.2) 9.4.0
Ubuntu 22.04 (ARM)
Kernel: 5.15.0-97-generic
Compiler: gcc gcc (Ubuntu 11.4.0-1ubuntu1~22.04) 11.4.0
Ubuntu 22.04
Kernel: 5.15.0-100-generic
Compiler: gcc gcc (Ubuntu 11.4.0-1ubuntu1~22.04) 11.4.0
To view detailed results, visit:
https://lab.dpdk.org/results/dashboard/patchsets/32350/
UNH-IOL DPDK Community Lab
To manage your email subscriptions, visit:
https://lab.dpdk.org/results/dashboard/preferences/subscriptions/
More information about the test-report
mailing list