|SUCCESS| pw150159-150162 [PATCH] [v17,4/4] eal: add PMU support to
dpdklab at iol.unh.edu
dpdklab at iol.unh.edu
Fri Jan 17 14:43:46 CET 2025
Test-Label: iol-sample-apps-testing
Test-Status: SUCCESS
http://dpdk.org/patch/150162
_Testing PASS_
Submitter: Tomasz Duszynski <tduszynski at marvell.com>
Date: Friday, January 17 2025 09:00:33
DPDK git baseline: Repo:dpdk
Branch: master
CommitID:06e2856620a70000b2a28f0ea715fc247b85fd8d
150159-150162 --> testing pass
Upstream job id: ACVP-FIPS-testing#8587
Test environment and result as below:
+--------------------+----------------------+----------------------+
| Environment | compressdev_zlib_pmd | dpdk_fips_validation |
+====================+======================+======================+
| Ubuntu 22.04 (ARM) | PASS | SKIPPED |
+--------------------+----------------------+----------------------+
| Ubuntu 22.04 | PASS | SKIPPED |
+--------------------+----------------------+----------------------+
| Ubuntu 20.04 | SKIPPED | PASS |
+--------------------+----------------------+----------------------+
Ubuntu 22.04 (ARM)
Kernel: 5.15.0-97-generic
Compiler: gcc gcc (Ubuntu 11.4.0-1ubuntu1~22.04) 11.4.0
Ubuntu 22.04
Kernel: 5.15.0-100-generic
Compiler: gcc gcc (Ubuntu 11.4.0-1ubuntu1~22.04) 11.4.0
Ubuntu 20.04
Kernel: Depends on container host
Compiler: gcc (Ubuntu 9.4.0-1ubuntu1~20.04.2) 9.4.0
To view detailed results, visit:
https://lab.dpdk.org/results/dashboard/patchsets/32353/
UNH-IOL DPDK Community Lab
To manage your email subscriptions, visit:
https://lab.dpdk.org/results/dashboard/preferences/subscriptions/
More information about the test-report
mailing list