|SUCCESS| pw150408-150409 [PATCH] [v4,2/2] net/cnxk: support rte flo

dpdklab at iol.unh.edu dpdklab at iol.unh.edu
Thu Jan 23 08:25:28 CET 2025


Test-Label: iol-compile-amd64-testing
Test-Status: SUCCESS
http://dpdk.org/patch/150409

_Testing PASS_

Submitter: Satheesh Paul Antonysamy <psatheesh at marvell.com>
Date: Thursday, January 23 2025 05:52:47 
DPDK git baseline: Repo:dpdk
  Branch: master
  CommitID:ccde23ae1da8b7695489e7122921943ebf20160d

150408-150409 --> testing pass

Upstream job id: Generic-VM-DPDK-Compile-Meson#32796

Test environment and result as below:

+---------------------+--------------------+-------------------+
|     Environment     | dpdk_meson_compile | dpdk_msvc_compile |
+=====================+====================+===================+
| FreeBSD 13.4        | PASS               | SKIPPED           |
+---------------------+--------------------+-------------------+
| FreeBSD 14.2        | PASS               | SKIPPED           |
+---------------------+--------------------+-------------------+
| Windows Server 2022 | SKIPPED            | PASS              |
+---------------------+--------------------+-------------------+


FreeBSD 13.4
	Kernel: 13.4-RELEASE-p1
	Compiler: clang 18.1.6

FreeBSD 14.2
	Kernel: 14.2-RELEASE
	Compiler: clang 18.1.6

Windows Server 2022
	Kernel: 10.0.20348.2031
	Compiler: clang 15.0.7, gcc 14.1.0 (MinGW), and MSVC VS 19.39.33521

To view detailed results, visit:
https://lab.dpdk.org/results/dashboard/patchsets/32401/

UNH-IOL DPDK Community Lab

To manage your email subscriptions, visit: 
https://lab.dpdk.org/results/dashboard/preferences/subscriptions/


More information about the test-report mailing list