|WARNING| pw150408-150409 [PATCH] [v4,2/2] net/cnxk: support rte flo

dpdklab at iol.unh.edu dpdklab at iol.unh.edu
Thu Jan 23 10:46:05 CET 2025


Test-Label: iol-compile-amd64-testing
Test-Status: WARNING
http://dpdk.org/patch/150409

_Testing issues_

Submitter: Satheesh Paul Antonysamy <psatheesh at marvell.com>
Date: Thursday, January 23 2025 05:52:47 
DPDK git baseline: Repo:dpdk
  Branch: master
  CommitID:ccde23ae1da8b7695489e7122921943ebf20160d

150408-150409 --> testing issues

Upstream job id: Generic-DPDK-Compile-Meson#354213

Test environment and result as below:

+---------------------+--------------------+-------------------+------------------+-------------------+-----------------------+----------------------+
|     Environment     | dpdk_meson_compile | dpdk_msvc_compile | dpdk_compile_ovs | dpdk_compile_spdk | dpdk_win_llvm_compile | dpdk_mingw64_compile |
+=====================+====================+===================+==================+===================+=======================+======================+
| FreeBSD 13.4        | PASS               | SKIPPED           | SKIPPED          | SKIPPED           | SKIPPED               | SKIPPED              |
+---------------------+--------------------+-------------------+------------------+-------------------+-----------------------+----------------------+
| FreeBSD 14.2        | PASS               | SKIPPED           | SKIPPED          | SKIPPED           | SKIPPED               | SKIPPED              |
+---------------------+--------------------+-------------------+------------------+-------------------+-----------------------+----------------------+
| CentOS Stream 9     | PASS               | SKIPPED           | PASS             | PASS              | SKIPPED               | SKIPPED              |
+---------------------+--------------------+-------------------+------------------+-------------------+-----------------------+----------------------+
| Debian Bullseye     | PEND               | SKIPPED           | PEND             | PEND              | SKIPPED               | SKIPPED              |
+---------------------+--------------------+-------------------+------------------+-------------------+-----------------------+----------------------+
| Fedora 40           | PASS               | SKIPPED           | PASS             | PASS              | SKIPPED               | SKIPPED              |
+---------------------+--------------------+-------------------+------------------+-------------------+-----------------------+----------------------+
| Fedora 41 (Clang)   | PEND               | SKIPPED           | PEND             | PEND              | SKIPPED               | SKIPPED              |
+---------------------+--------------------+-------------------+------------------+-------------------+-----------------------+----------------------+
| Fedora 41           | PASS               | SKIPPED           | PASS             | PASS              | SKIPPED               | SKIPPED              |
+---------------------+--------------------+-------------------+------------------+-------------------+-----------------------+----------------------+
| openSUSE Leap 15    | PASS               | SKIPPED           | SKIPPED          | SKIPPED           | SKIPPED               | SKIPPED              |
+---------------------+--------------------+-------------------+------------------+-------------------+-----------------------+----------------------+
| RHEL8               | PASS               | SKIPPED           | PASS             | SKIPPED           | SKIPPED               | SKIPPED              |
+---------------------+--------------------+-------------------+------------------+-------------------+-----------------------+----------------------+
| RHEL9               | PEND               | SKIPPED           | PEND             | SKIPPED           | SKIPPED               | SKIPPED              |
+---------------------+--------------------+-------------------+------------------+-------------------+-----------------------+----------------------+
| Ubuntu 20.04        | PASS               | SKIPPED           | WARN             | SKIPPED           | SKIPPED               | SKIPPED              |
+---------------------+--------------------+-------------------+------------------+-------------------+-----------------------+----------------------+
| Ubuntu 22.04        | PEND               | SKIPPED           | PEND             | PEND              | SKIPPED               | SKIPPED              |
+---------------------+--------------------+-------------------+------------------+-------------------+-----------------------+----------------------+
| Ubuntu 24.04        | PEND               | SKIPPED           | PEND             | PEND              | SKIPPED               | SKIPPED              |
+---------------------+--------------------+-------------------+------------------+-------------------+-----------------------+----------------------+
| Alpine              | PEND               | SKIPPED           | PEND             | SKIPPED           | SKIPPED               | SKIPPED              |
+---------------------+--------------------+-------------------+------------------+-------------------+-----------------------+----------------------+
| Debian 12           | PEND               | SKIPPED           | PEND             | PEND              | SKIPPED               | SKIPPED              |
+---------------------+--------------------+-------------------+------------------+-------------------+-----------------------+----------------------+
| Windows Server 2022 | SKIPPED            | PASS              | SKIPPED          | SKIPPED           | PASS                  | PASS                 |
+---------------------+--------------------+-------------------+------------------+-------------------+-----------------------+----------------------+

==== 20 line log output for Ubuntu 20.04 (dpdk_compile_ovs): ====
 --- Failed to get log output --- 
==== End log output ====

FreeBSD 13.4
	Kernel: 13.4-RELEASE-p1
	Compiler: clang 18.1.6

FreeBSD 14.2
	Kernel: 14.2-RELEASE
	Compiler: clang 18.1.6

CentOS Stream 9
	Kernel: Depends on container host
	Compiler: gcc 11.5.0 20240719 (Red Hat 11.5.0-2)

Debian Bullseye
	Kernel: Depends on container host
	Compiler: gcc (Debian 10.2.1-6) 10.2.1 20210110

Fedora 40
	Kernel: Depends on container host
	Compiler: gcc 14.2.1 20240912 (Red Hat 14.2.1-3)

Fedora 41 (Clang)
	Kernel: Depends on container host
	Compiler: clang 19.1.5 (Fedora 19.1.5-1.fc41)

Fedora 41
	Kernel: Depends on container host
	Compiler: gcc 14.2.1 20240912 (Red Hat 14.2.1-3)

openSUSE Leap 15
	Kernel: Depends on container host
	Compiler: gcc (SUSE Linux) 7.5.0

RHEL8
	Kernel: Depends on container host
	Compiler: gcc 8.5.0 20210514 (Red Hat 8.5.0-22)

RHEL9
	Kernel: Depends on container host
	Compiler: gcc 11.5.0 20240719 (Red Hat 11.5.0-2)

Ubuntu 20.04
	Kernel: Depends on container host
	Compiler: gcc (Ubuntu 9.4.0-1ubuntu1~20.04.2) 9.4.0

Ubuntu 22.04
	Kernel: Depends on container host
	Compiler: gcc (Ubuntu 11.4.0-1ubuntu1~22.04) 11.4.0

Ubuntu 24.04
	Kernel: Depends on container host
	Compiler: gcc (Ubuntu 13.3.0-6ubuntu2~24.04) 13.3.0

Alpine
	Kernel: Depends on container host
	Compiler: gcc (Alpine 14.2.0) 14.2.0

Debian 12
	Kernel: Depends on container host
	Compiler: gcc (Debian 12.2.0-14) 12.2.0

Windows Server 2022
	Kernel: 10.0.20348.2031
	Compiler: clang 15.0.7, gcc 14.1.0 (MinGW), and MSVC VS 19.39.33521

To view detailed results, visit:
https://lab.dpdk.org/results/dashboard/patchsets/32401/

UNH-IOL DPDK Community Lab

To manage your email subscriptions, visit: 
https://lab.dpdk.org/results/dashboard/preferences/subscriptions/


More information about the test-report mailing list