|SUCCESS| pw150506 [PATCH] dts: automatically bring up link on inter
    dpdklab at iol.unh.edu 
    dpdklab at iol.unh.edu
       
    Sat Jan 25 04:57:32 CET 2025
    
    
  
Test-Label: iol-compile-amd64-testing
Test-Status: SUCCESS
http://dpdk.org/patch/150506
_Testing PASS_
Submitter: Patrick Robb <probb at iol.unh.edu>
Date: Saturday, January 25 2025 00:10:26 
DPDK git baseline: Repo:dpdk
  Branch: master
  CommitID:5b856206c74bbcf19e12cafa15382a7e15b0a1b5
150506 --> testing pass
Upstream job id: Windows-Compile-DPDK-Native#26116
Test environment and result as below:
+---------------------+--------------------+-------------------+----------------------+
|     Environment     | dpdk_meson_compile | dpdk_msvc_compile | dpdk_mingw64_compile |
+=====================+====================+===================+======================+
| FreeBSD 13.4        | PASS               | SKIPPED           | SKIPPED              |
+---------------------+--------------------+-------------------+----------------------+
| FreeBSD 14.2        | PASS               | SKIPPED           | SKIPPED              |
+---------------------+--------------------+-------------------+----------------------+
| Windows Server 2022 | SKIPPED            | PASS              | PASS                 |
+---------------------+--------------------+-------------------+----------------------+
FreeBSD 13.4
	Kernel: 13.4-RELEASE-p1
	Compiler: clang 18.1.6
FreeBSD 14.2
	Kernel: 14.2-RELEASE
	Compiler: clang 18.1.6
Windows Server 2022
	Kernel: 10.0.20348.2031
	Compiler: clang 15.0.7, gcc 14.1.0 (MinGW), and MSVC VS 19.39.33521
To view detailed results, visit:
https://lab.dpdk.org/results/dashboard/patchsets/32425/
UNH-IOL DPDK Community Lab
To manage your email subscriptions, visit: 
https://lab.dpdk.org/results/dashboard/preferences/subscriptions/
    
    
More information about the test-report
mailing list