|SUCCESS| [GIT MASTER] f2eea2f37a82bb73fb01d56350708f7d70e21379

dpdklab at iol.unh.edu dpdklab at iol.unh.edu
Sat Jan 25 08:15:57 CET 2025


_Testing PASS_

Branch: tags/v24.11

f2eea2f37a82bb73fb01d56350708f7d70e21379 --> testing pass

Upstream job id: Windows-Compile-DPDK-Native#26124

Test environment and result as below:

+---------------------+--------------------+-------------------+----------------------+
|     Environment     | dpdk_meson_compile | dpdk_msvc_compile | dpdk_mingw64_compile |
+=====================+====================+===================+======================+
| FreeBSD 14.2        | PASS               | SKIPPED           | SKIPPED              |
+---------------------+--------------------+-------------------+----------------------+
| Windows Server 2022 | SKIPPED            | PASS              | PASS                 |
+---------------------+--------------------+-------------------+----------------------+


FreeBSD 14.2
	Kernel: 14.2-RELEASE
	Compiler: clang 18.1.6

Windows Server 2022
	Kernel: 10.0.20348.2031
	Compiler: clang 15.0.7, gcc 14.1.0 (MinGW), and MSVC VS 19.39.33521

To view detailed results, visit:
https://lab.dpdk.org/results/dashboard/tarballs/32344/

UNH-IOL DPDK Community Lab

To manage your email subscriptions, visit: 
https://lab.dpdk.org/results/dashboard/preferences/subscriptions/


More information about the test-report mailing list