|SUCCESS| pw150553-150555 [PATCH] [v3,3/3] drivers/crypto: use RTE_B

dpdklab at iol.unh.edu dpdklab at iol.unh.edu
Mon Jan 27 22:32:50 CET 2025


Test-Label: iol-unit-arm64-testing
Test-Status: SUCCESS
http://dpdk.org/patch/150555

_Testing PASS_

Submitter: Andre Muezerie <andremue at linux.microsoft.com>
Date: Monday, January 27 2025 19:33:09 
DPDK git baseline: Repo:dpdk
  Branch: master
  CommitID:e110e9ecc60a78e26026496b1697863312f262a4

150553-150555 --> testing pass

Upstream job id: Generic-Unit-Test-DPDK#309644

Test environment and result as below:

+--------------------------+------------------------------+--------------+---------------------------+----------------+
|       Environment        | cryptodev_sw_snow3g_autotest | lpm_autotest | cryptodev_sw_zuc_autotest | dpdk_unit_test |
+==========================+==============================+==============+===========================+================+
| Debian 12 (arm)          | PASS                         | SKIPPED      | PASS                      | PASS           |
+--------------------------+------------------------------+--------------+---------------------------+----------------+
| Ubuntu 20.04 ARM SVE     | SKIPPED                      | PASS         | SKIPPED                   | SKIPPED        |
+--------------------------+------------------------------+--------------+---------------------------+----------------+
| CentOS Stream 9 (ARM)    | SKIPPED                      | SKIPPED      | SKIPPED                   | PASS           |
+--------------------------+------------------------------+--------------+---------------------------+----------------+
| Fedora 40 (ARM)          | SKIPPED                      | SKIPPED      | SKIPPED                   | PASS           |
+--------------------------+------------------------------+--------------+---------------------------+----------------+
| Debian 11 (Buster) (ARM) | SKIPPED                      | SKIPPED      | SKIPPED                   | PASS           |
+--------------------------+------------------------------+--------------+---------------------------+----------------+
| Fedora 40 (ARM Clang)    | SKIPPED                      | SKIPPED      | SKIPPED                   | PASS           |
+--------------------------+------------------------------+--------------+---------------------------+----------------+
| Fedora 41 (ARM)          | SKIPPED                      | SKIPPED      | SKIPPED                   | PASS           |
+--------------------------+------------------------------+--------------+---------------------------+----------------+
| RHEL9 (ARM)              | SKIPPED                      | SKIPPED      | SKIPPED                   | PASS           |
+--------------------------+------------------------------+--------------+---------------------------+----------------+
| Fedora 41 (ARM Clang)    | SKIPPED                      | SKIPPED      | SKIPPED                   | PASS           |
+--------------------------+------------------------------+--------------+---------------------------+----------------+
| Ubuntu 20.04 (ARM)       | SKIPPED                      | SKIPPED      | SKIPPED                   | PASS           |
+--------------------------+------------------------------+--------------+---------------------------+----------------+
| Ubuntu 24.04 (ARM)       | SKIPPED                      | SKIPPED      | SKIPPED                   | PASS           |
+--------------------------+------------------------------+--------------+---------------------------+----------------+
| Ubuntu 22.04 (ARM)       | SKIPPED                      | SKIPPED      | SKIPPED                   | PASS           |
+--------------------------+------------------------------+--------------+---------------------------+----------------+


Debian 12 (arm)
	Kernel: Depends on container host
	Compiler: gcc (Debian 12.2.0-14) 12.2.0

Ubuntu 20.04 ARM SVE
	Kernel: Depends on container host
	Compiler: gcc (Ubuntu 10.5.0-1ubuntu1~20.04) 10.5.0

CentOS Stream 9 (ARM)
	Kernel: Depends on container host
	Compiler: gcc 11.5.0 20240719 (Red Hat 11.5.0-2)

Fedora 40 (ARM)
	Kernel: Depends on container host
	Compiler: gcc 14.2.1 20240912 (Red Hat 14.2.1-3)

Debian 11 (Buster) (ARM)
	Kernel: Depends on container host
	Compiler: gcc (Debian 10.2.1-6) 10.2.1 20210110

Fedora 40 (ARM Clang)
	Kernel: Depends on container host
	Compiler: clang 18.1.8 (Fedora 18.1.8-1.fc40)

Fedora 41 (ARM)
	Kernel: Depends on container host
	Compiler: gcc 14.2.1 20240912 (Red Hat 14.2.1-3)

RHEL9 (ARM)
	Kernel: Depends on container host
	Compiler: gcc 11.5.0 20240719 (Red Hat 11.5.0-2)

Fedora 41 (ARM Clang)
	Kernel: Depends on container host
	Compiler: clang 19.1.5 (Fedora 19.1.5-1.fc41)

Ubuntu 20.04 (ARM)
	Kernel: Depends on container host
	Compiler: gcc (Ubuntu 9.4.0-1ubuntu1~20.04.2) 9.4.0

Ubuntu 24.04 (ARM)
	Kernel: Depends on container host
	Compiler: gcc (Ubuntu 13.3.0-6ubuntu2~24.04) 13.3.0

Ubuntu 22.04 (ARM)
	Kernel: Depends on container host
	Compiler: gcc (Ubuntu 11.4.0-1ubuntu1~22.04) 11.4.0

To view detailed results, visit:
https://lab.dpdk.org/results/dashboard/patchsets/32436/

UNH-IOL DPDK Community Lab

To manage your email subscriptions, visit: 
https://lab.dpdk.org/results/dashboard/preferences/subscriptions/


More information about the test-report mailing list