|SUCCESS| pw150560-150561 [PATCH] [3/3] net/mlx5: fix flow flush for
    dpdklab at iol.unh.edu 
    dpdklab at iol.unh.edu
       
    Tue Jan 28 19:07:12 CET 2025
    
    
  
Test-Label: iol-sample-apps-testing
Test-Status: SUCCESS
http://dpdk.org/patch/150561
_Testing PASS_
Submitter: Maayan Kashani <mkashani at nvidia.com>
Date: Tuesday, January 28 2025 07:54:05 
DPDK git baseline: Repo:dpdk
  Branch: master
  CommitID:5d36a8ca4cf2f7daaa50012f2f4333c67e867dd1
150560-150561 --> testing pass
Upstream job id: ACVP-FIPS-testing#8711
Test environment and result as below:
+--------------------+----------------------+----------------------+
|    Environment     | compressdev_zlib_pmd | dpdk_fips_validation |
+====================+======================+======================+
| Ubuntu 22.04 (ARM) | PASS                 | SKIPPED              |
+--------------------+----------------------+----------------------+
| Ubuntu 22.04       | PASS                 | SKIPPED              |
+--------------------+----------------------+----------------------+
| Ubuntu 20.04       | SKIPPED              | PASS                 |
+--------------------+----------------------+----------------------+
Ubuntu 22.04 (ARM)
	Kernel: 5.15.0-97-generic
	Compiler: gcc gcc (Ubuntu 11.4.0-1ubuntu1~22.04) 11.4.0
Ubuntu 22.04
	Kernel: 5.15.0-100-generic
	Compiler: gcc gcc (Ubuntu 11.4.0-1ubuntu1~22.04) 11.4.0
Ubuntu 20.04
	Kernel: Depends on container host
	Compiler: gcc (Ubuntu 9.4.0-1ubuntu1~20.04.2) 9.4.0
To view detailed results, visit:
https://lab.dpdk.org/results/dashboard/patchsets/32438/
UNH-IOL DPDK Community Lab
To manage your email subscriptions, visit: 
https://lab.dpdk.org/results/dashboard/preferences/subscriptions/
    
    
More information about the test-report
mailing list