|WARNING| pw150566-150579 [PATCH] [v7,15/15] net/xsc: add ethdev lin
dpdklab at iol.unh.edu
dpdklab at iol.unh.edu
Tue Jan 28 22:03:32 CET 2025
Test-Label: iol-sample-apps-testing
Test-Status: WARNING
http://dpdk.org/patch/150579
_Testing issues_
Submitter: Renyong Wan <wanry at yunsilicon.com>
Date: Tuesday, January 28 2025 14:47:20
DPDK git baseline: Repo:dpdk
Branch: master
CommitID:3ba602522abfc4db664008b89ec7c90cfbf7173d
150566-150579 --> testing issues
Upstream job id: ACVP-FIPS-testing#8713
Test environment and result as below:
+--------------------+----------------------+----------------------+
| Environment | compressdev_zlib_pmd | dpdk_fips_validation |
+====================+======================+======================+
| Ubuntu 22.04 (ARM) | PASS | SKIPPED |
+--------------------+----------------------+----------------------+
| Ubuntu 22.04 | PASS | SKIPPED |
+--------------------+----------------------+----------------------+
| Ubuntu 20.04 | SKIPPED | WARN |
+--------------------+----------------------+----------------------+
==== 20 line log output for Ubuntu 20.04 (dpdk_fips_validation): ====
INFO:root:Fetching verdict...
INFO:root:Downloading verdict for vector set 2836264
INFO:root:Vector set verdict not ready, waiting 30 seconds...
INFO:root:Vector set verdict not ready, waiting 30 seconds...
INFO:root:Done
INFO:root:Using response file...
INFO:root:Uploading response file...
INFO:root:Fetching verdict...
INFO:root:Downloading verdict for vector set 2836266
INFO:root:Vector set verdict not ready, waiting 30 seconds...
INFO:root:Vector set verdict not ready, waiting 30 seconds...
INFO:root:Vector set verdict not ready, waiting 30 seconds...
INFO:root:Done
INFO:root:Using response file...
INFO:root:Uploading response file...
INFO:root:Fetching verdict...
INFO:root:Downloading verdict for vector set 2836267
INFO:root:Vector set verdict not ready, waiting 30 seconds...
INFO:root:Vector set verdict not ready, waiting 30 seconds...
INFO:root:Done
==== End log output ====
Ubuntu 22.04 (ARM)
Kernel: 5.15.0-97-generic
Compiler: gcc gcc (Ubuntu 11.4.0-1ubuntu1~22.04) 11.4.0
Ubuntu 22.04
Kernel: 5.15.0-100-generic
Compiler: gcc gcc (Ubuntu 11.4.0-1ubuntu1~22.04) 11.4.0
Ubuntu 20.04
Kernel: Depends on container host
Compiler: gcc (Ubuntu 9.4.0-1ubuntu1~20.04.2) 9.4.0
To view detailed results, visit:
https://lab.dpdk.org/results/dashboard/patchsets/32441/
UNH-IOL DPDK Community Lab
To manage your email subscriptions, visit:
https://lab.dpdk.org/results/dashboard/preferences/subscriptions/
More information about the test-report
mailing list