|SUCCESS| pw150648 [PATCH] net/ice: fix segmentation fault Rx functi

dpdklab at iol.unh.edu dpdklab at iol.unh.edu
Thu Jan 30 21:24:40 CET 2025


Test-Label: iol-compile-amd64-testing
Test-Status: SUCCESS
http://dpdk.org/patch/150648

_Testing PASS_

Submitter: Medvedkin, Vladimir <vladimir.medvedkin at intel.com>
Date: Thursday, January 30 2025 19:26:17 
DPDK git baseline: Repo:dpdk
  Branch: master
  CommitID:8c565bbebb8f72decbc4af6a69cb76f07bffc472

150648 --> testing pass

Upstream job id: Generic-VM-DPDK-Compile-Meson#32958

Test environment and result as below:

+---------------------+-------------------+--------------------+----------------------+
|     Environment     | dpdk_msvc_compile | dpdk_meson_compile | dpdk_mingw64_compile |
+=====================+===================+====================+======================+
| Windows Server 2022 | PASS              | SKIPPED            | PASS                 |
+---------------------+-------------------+--------------------+----------------------+
| FreeBSD 13.4        | SKIPPED           | PASS               | SKIPPED              |
+---------------------+-------------------+--------------------+----------------------+
| FreeBSD 14.2        | SKIPPED           | PASS               | SKIPPED              |
+---------------------+-------------------+--------------------+----------------------+


Windows Server 2022
	Kernel: 10.0.20348.2031
	Compiler: clang 15.0.7, gcc 14.1.0 (MinGW), and MSVC VS 19.39.33521

FreeBSD 13.4
	Kernel: 13.4-RELEASE-p1
	Compiler: clang 18.1.6

FreeBSD 14.2
	Kernel: 14.2-RELEASE
	Compiler: clang 18.1.6

To view detailed results, visit:
https://lab.dpdk.org/results/dashboard/patchsets/32465/

UNH-IOL DPDK Community Lab

To manage your email subscriptions, visit: 
https://lab.dpdk.org/results/dashboard/preferences/subscriptions/


More information about the test-report mailing list