|SUCCESS| pw150675 [PATCH] [v2] dts: add SUT cleanup to framework

dpdklab at iol.unh.edu dpdklab at iol.unh.edu
Fri Jan 31 12:57:45 CET 2025


Test-Label: iol-compile-amd64-testing
Test-Status: SUCCESS
http://dpdk.org/patch/150675

_Testing PASS_

Submitter: Dean Marx <dmarx at iol.unh.edu>
Date: Thursday, January 30 2025 22:13:24 
DPDK git baseline: Repo:dpdk
  Branch: master
  CommitID:d748916b207173c7f57a2b04c4f5c8f7fbb3cfd4

150675 --> testing pass

Upstream job id: Generic-VM-DPDK-Compile-Meson#32970

Test environment and result as below:

+---------------------+-------------------+--------------------+
|     Environment     | dpdk_msvc_compile | dpdk_meson_compile |
+=====================+===================+====================+
| Windows Server 2022 | PASS              | SKIPPED            |
+---------------------+-------------------+--------------------+
| FreeBSD 13.4        | SKIPPED           | PASS               |
+---------------------+-------------------+--------------------+
| FreeBSD 14.2        | SKIPPED           | PASS               |
+---------------------+-------------------+--------------------+


Windows Server 2022
	Kernel: 10.0.20348.2031
	Compiler: clang 15.0.7, gcc 14.1.0 (MinGW), and MSVC VS 19.39.33521

FreeBSD 13.4
	Kernel: 13.4-RELEASE-p1
	Compiler: clang 18.1.6

FreeBSD 14.2
	Kernel: 14.2-RELEASE
	Compiler: clang 18.1.6

To view detailed results, visit:
https://lab.dpdk.org/results/dashboard/patchsets/32467/

UNH-IOL DPDK Community Lab

To manage your email subscriptions, visit: 
https://lab.dpdk.org/results/dashboard/preferences/subscriptions/


More information about the test-report mailing list