|SUCCESS| pw150758-150760 [PATCH] [3/3] dts: bump up fabric version
dpdklab at iol.unh.edu
dpdklab at iol.unh.edu
Fri Jan 31 22:37:31 CET 2025
Test-Label: iol-compile-amd64-testing
Test-Status: SUCCESS
http://dpdk.org/patch/150760
_Testing PASS_
Submitter: Luca Vizzarro <luca.vizzarro at arm.com>
Date: Friday, January 31 2025 19:19:24
DPDK git baseline: Repo:dpdk
Branch: master
CommitID:75fb46c7ade4a7efaaa02743c4aa450f75ba9468
150758-150760 --> testing pass
Upstream job id: Windows-Compile-DPDK-VS#4785
Test environment and result as below:
+---------------------+-------------------+--------------------+
| Environment | dpdk_msvc_compile | dpdk_meson_compile |
+=====================+===================+====================+
| Windows Server 2022 | PASS | SKIPPED |
+---------------------+-------------------+--------------------+
| FreeBSD 13.4 | SKIPPED | PASS |
+---------------------+-------------------+--------------------+
| FreeBSD 14.2 | SKIPPED | PASS |
+---------------------+-------------------+--------------------+
Windows Server 2022
Kernel: 10.0.20348.2031
Compiler: clang 15.0.7, gcc 14.1.0 (MinGW), and MSVC VS 19.39.33521
FreeBSD 13.4
Kernel: 13.4-RELEASE-p1
Compiler: clang 18.1.6
FreeBSD 14.2
Kernel: 14.2-RELEASE
Compiler: clang 18.1.6
To view detailed results, visit:
https://lab.dpdk.org/results/dashboard/patchsets/32474/
UNH-IOL DPDK Community Lab
To manage your email subscriptions, visit:
https://lab.dpdk.org/results/dashboard/preferences/subscriptions/
More information about the test-report
mailing list