|SUCCESS| pw154881-154886 [PATCH] [v7,6/6] net/dpaa2: enable softwar
dpdklab at iol.unh.edu
dpdklab at iol.unh.edu
Tue Jul 1 07:56:08 CEST 2025
Test-Label: iol-compile-amd64-testing
Test-Status: SUCCESS
http://dpdk.org/patch/154886
_Testing PASS_
Submitter: Gagandeep Singh <g.singh at nxp.com>
Date: Tuesday, July 01 2025 04:29:17
DPDK git baseline: Repo:dpdk
Branch: master
CommitID:77864da82f25a9e1e43c14b2cba68c2049a3ee3e
154881-154886 --> testing pass
Upstream job id: Windows-Compile-DPDK-Native#29468
Test environment and result as below:
+---------------------+--------------------+-------------------+-------------------------+
| Environment | dpdk_meson_compile | dpdk_msvc_compile | dpdk_llvm_clang_compile |
+=====================+====================+===================+=========================+
| Ubuntu 20.04 | PASS | SKIPPED | SKIPPED |
+---------------------+--------------------+-------------------+-------------------------+
| Windows Server 2022 | SKIPPED | PASS | PASS |
+---------------------+--------------------+-------------------+-------------------------+
Ubuntu 20.04
Kernel: 4.19
Compiler: gcc gcc (Ubuntu 9.4.0-1ubuntu1~20.04.2) 9.4.0
Windows Server 2022
Kernel: 10.0.20348.2031
Compiler: clang 15.0.7, gcc 14.1.0 (MinGW), and MSVC VS 19.39.33521
To view detailed results, visit:
https://lab.dpdk.org/results/dashboard/patchsets/33549/
UNH-IOL DPDK Community Lab
To manage your email subscriptions, visit:
https://lab.dpdk.org/results/dashboard/preferences/subscriptions/
More information about the test-report
mailing list